{"text_format":"3","workbook":"xlsx","n_sheets":15,"sheets":["Årsoversikt","Januar","Februar","Mars","April","Mai","Juni","Juli","August","September","Oktober","November","Desember","Beregning av OT","Brukerveiledning"],"not_rendered":{"images":1,"defined_names":62,"comments":12},"read":"whole","date_system":"1904"}

{"sheet":"Årsoversikt","index":0,"n_rows":19,"n_cols":16,"rows_kept":19}
[]
[null,"Månedsoversikt gjennom hele året."]
[]
[]
[null,null,"Antall arbeids- dager ","Arbeidstid iht normal arbeidstid pr dag",null,{"$f":"Januar!$C$28","v":"Normal Arbeidstid"},{"$f":"Januar!$F$28","v":"Ekstra arbeidstid"},{"$f":"Januar!$I$28","v":"Fravær i arbeidstiden"},null,"Arbeidstid pr. måned","Overført til neste måned",null,{"$f":"Januar!$L$28","v":"Overtid "},null,"Utbetalt Timer","Utbetalt overtid"]
[null,"Januar ",{"$f":"Januar!$M$17","v":22},{"$f":"Januar!$M$16","v":6.875},null,{"$f":"Januar!$M$10","v":0},{"$f":"Januar!$M$11","v":0},{"$f":"Januar!$M$12","v":0},null,{"$f":"Januar!$M$13","v":0},{"$f":"Januar!$M$1","v":-6.875},null,{"$f":"Januar!$M$19","v":0},null,{"$f":"Januar!$M$2","v":0},{"$f":"Januar!$M$5","v":0}]
[null,"Februar",{"$f":"Februar!$M$17","v":20},{"$f":"Februar!$M$16","v":6.25},null,{"$f":"Februar!$M$10","v":0},{"$f":"Februar!$M$11","v":0},{"$f":"Februar!$M$12","v":0},null,{"$f":"Februar!$M$13","v":0},{"$f":"Februar!$M$1","v":-13.125},null,{"$f":"Februar!$M$19","v":0},null,{"$f":"Februar!$M$2","v":0},{"$f":"Februar!$M$5","v":0}]
[null,"Mars",{"$f":"Mars!$M$17","v":18.6},{"$f":"Mars!$M$16","v":5.8125},null,{"$f":"Mars!$M$10","v":0},{"$f":"Mars!$M$11","v":0},{"$f":"Mars!$M$12","v":0},null,{"$f":"Mars!$M$13","v":0},{"$f":"Mars!$M$1","v":-18.9375},null,{"$f":"Mars!$M$19","v":0},null,{"$f":"Mars!$M$2","v":0},{"$f":"Mars!$M$5","v":0}]
[null,"April",{"$f":"April!$M$17","v":21},{"$f":"April!$M$16","v":6.5625},null,{"$f":"April!$M$10","v":0},{"$f":"April!$M$11","v":0},{"$f":"April!$M$12","v":0},null,{"$f":"April!$M$13","v":0},{"$f":"April!$M$1","v":-25.5},null,{"$f":"April!$M$19","v":0},null,{"$f":"April!$M$2","v":0},{"$f":"April!$M$5","v":0}]
[null,"Mai",{"$f":"Mai!$M$17","v":19},{"$f":"Mai!$M$16","v":5.9375},null,{"$f":"Mai!$M$10","v":0},{"$f":"Mai!$M$11","v":0},{"$f":"Mai!$M$12","v":0},null,{"$f":"Mai!$M$13","v":0},{"$f":"Mai!$M$1","v":-31.4375},null,{"$f":"Mai!$M$19","v":0},null,{"$f":"Mai!$M$2","v":0},{"$f":"Mai!$M$5","v":0}]
[null,"Juni",{"$f":"Juni!$M$17","v":20},{"$f":"Juni!$M$16","v":6.25},null,{"$f":"Juni!$M$10","v":0},{"$f":"Juni!$M$11","v":0},{"$f":"Juni!$M$12","v":0},null,{"$f":"Juni!$M$13","v":0},{"$f":"Juni!$M$1","v":-37.6875},null,{"$f":"Juni!$M$19","v":0},null,{"$f":"Juni!$M$2","v":0},{"$f":"Juni!$M$5","v":0}]
[null,"Juli",{"$f":"Juli!$M$17","v":23},{"$f":"Juli!$M$16","v":7.1875},null,{"$f":"Juli!$M$10","v":0},{"$f":"Juli!$M$11","v":0},{"$f":"Juli!$M$12","v":0},null,{"$f":"Juli!$M$13","v":0},{"$f":"Juli!$M$1","v":-44.875},null,{"$f":"Juli!$M$19","v":0},null,{"$f":"Juli!$M$2","v":0},{"$f":"Juli!$M$5","v":0}]
[null,"August",{"$f":"August!$M$17","v":22},{"$f":"August!$M$16","v":6.875},null,{"$f":"August!$M$10","v":0},{"$f":"August!$M$11","v":0},{"$f":"August!$M$12","v":0},null,{"$f":"August!$M$13","v":0},{"$f":"August!$M$1","v":-51.75},null,{"$f":"August!$M$19","v":0},null,{"$f":"August!$M$2","v":0},{"$f":"August!$M$5","v":0}]
[null,"September",{"$f":"September!$M$17","v":21},{"$f":"September!$M$16","v":6.5625},null,{"$f":"September!$M$10","v":0},{"$f":"September!$M$11","v":0},{"$f":"September!$M$12","v":0},null,{"$f":"September!$M$13","v":0},{"$f":"September!$M$1","v":-58.3125},null,{"$f":"September!$M$19","v":0},null,{"$f":"September!$M$2","v":0},{"$f":"September!$M$5","v":0}]
[null,"Oktober",{"$f":"Oktober!$M$17","v":23},{"$f":"Oktober!$M$16","v":7.1875},null,{"$f":"Oktober!$M$10","v":0},{"$f":"Oktober!$M$11","v":0},{"$f":"Oktober!$M$12","v":0},null,{"$f":"Oktober!$M$13","v":0},{"$f":"Oktober!$M$1","v":-65.5},null,{"$f":"Oktober!$M$19","v":0},null,{"$f":"Oktober!$M$2","v":0},{"$f":"Oktober!$M$5","v":0}]
[null,"November",{"$f":"November!$M$17","v":21},{"$f":"November!$M$16","v":6.5625},null,{"$f":"November!$M$10","v":0},{"$f":"November!$M$11","v":0},{"$f":"November!$M$12","v":0},null,{"$f":"November!$M$13","v":0},{"$f":"November!$M$1","v":-72.0625},null,{"$f":"November!$M$19","v":0},null,{"$f":"November!$M$2","v":0},{"$f":"November!$M$5","v":0}]
[null,"Desember",{"$f":"Desember!$M$17","v":19.200000000000003},{"$f":"Desember!$M$16","v":6},null,{"$f":"Desember!$M$10","v":0},{"$f":"Desember!$M$11","v":0},{"$f":"Desember!$M$12","v":0},null,{"$f":"Desember!$M$13","v":0},{"$f":"Desember!$M$1","v":-78.0625},null,{"$f":"Desember!$M$19","v":0},null,{"$f":"Desember!$M$2","v":0},{"$f":"Desember!$M$5","v":0}]
[]
[null,"Sum hele året",{"$f":"SUM(C6:C17)","v":249.8},{"$f":"SUM(D6:D17)","v":78.0625},null,{"$f":"SUM(F6:F17)","v":0},0,0,null,0,null,null,{"$f":"SUM(M6:M17)","v":0},null,0,0]

{"sheet":"Januar","index":1,"n_rows":70,"n_cols":15,"rows_kept":70,"merged":[[0,1,0,11],[0,12,0,13],[1,1,1,11],[1,12,1,13],[3,1,3,11],[3,12,3,13],[4,1,4,11],[4,12,4,13],[5,4,5,5],[5,6,5,11],[5,12,5,13],[7,1,7,5],[7,12,7,13],[8,1,8,5],[8,12,8,13],[9,1,9,5],[9,12,9,13],[10,1,10,5],[10,12,10,13],[11,1,11,5],[11,12,11,13],[12,1,12,5],[12,12,12,13],[13,1,13,5],[13,12,13,13],[14,1,14,5],[14,10,14,11],[14,12,14,13],[15,1,15,5],[15,12,15,13],[16,1,16,5],[16,12,16,13],[17,1,17,4],[17,12,17,13],[18,1,18,5],[18,12,18,13],[20,0,20,3],[21,0,25,14],[27,2,27,4],[27,5,27,7],[27,8,27,10],[27,11,27,13],[63,0,63,5],[63,8,63,13],[68,8,68,9],[69,1,69,6],[69,9,69,14]]}
[null,"Overføres til neste måned - arbeidstid + / - (etter evt utbetaling):",{"$nulls":10},{"$f":"SUM((M13+M15)-(M16+B9)-M2)","v":-6.875}]
[null,"Sum timer (EA) som utbetales denne måned (trekkes fra timer til gode):",{"$nulls":10},0]
[]
[null,"Sum overtid i år (AML § 10-6) Overføres til neste måned:",{"$nulls":10},{"$f":"M19","v":0}]
[null,"Utbetalt OT denne måned:",{"$nulls":10},0]
[null,"OT fra forrige mnd:",null,null,0,null,"OT til gode (etter utbetaling) denne mnd:",{"$nulls":5},{"$f":"SUM(M19+E6-M5)","v":0}]
[]
[null,"Evt. minustid fra forrige år:",{"$nulls":4},"Uke","Uke","Uke","Uke","Uke","Uke","Sum for ",null,"Lagring."]
[null,0,{"$nulls":5},1,{"$f":"H9+1","v":2},{"$f":"I9+1","v":3},{"$f":"J9+1","v":4},{"$f":"K9+1","v":5},"måneden.",null,"Tips."]
[null,"Normal arbeidstid:",{"$nulls":5},{"$f":"SUM(E31:E36)","v":0},{"$f":"SUM(E37:E43)","v":0},{"$f":"SUM(E44:E50)","v":0},{"$f":"SUM(E51:E57)","v":0},{"$f":"SUM(E58:E61)","v":0},{"$f":"SUM(G10:L10)","v":0},null,"Start ute i året."]
[null,"Ekstra arbeidstid (EA Ikke OT):",{"$nulls":5},{"$f":"SUM(H31:H36)","v":0},{"$f":"SUM(H37:H43)","v":0},{"$f":"SUM(H44:H50)","v":0},{"$f":"SUM(H51:H57)","v":0},{"$f":"SUM(H58:H61)","v":0},{"$f":"SUM(G11:L11)","v":0},null,"Nye versjoner."]
[null,"Fravær i arbeidstiden:",{"$nulls":5},{"$f":"SUM(K31:K36)","v":0},{"$f":"SUM(K37:K43)","v":0},{"$f":"SUM(K44:K50)","v":0},{"$f":"SUM(K51:K57)","v":0},{"$f":"SUM(K58:K61)","v":0},{"$f":"SUM(G12:L12)","v":0},null,"Forfatter."]
[null,"Sum arbeidstid:",{"$nulls":5},{"$f":"SUM(H10+H11-H12)","v":0},{"$f":"SUM(I10+I11-I12)","v":0},{"$f":"SUM(J10+J11-J12)","v":0},0,{"$f":"SUM(L10+L11-L12)","v":0},{"$f":"SUM(G13:L13)","v":0},null,"Kommentarer"]
[null,"+ / - arbeidstid pr. uke :",{"$nulls":5},{"$f":"SUM(H13-H16)","v":-0.9375},-1.5625,-1.5625,-1.5625,-1.25,{"$f":"SUM(G14:L14)","v":-6.875}]
[null,"Overført fra forrige måned / år:",{"$nulls":10},0,null,"Antall dager og timer"]
[null,"Normal arbeidstid pr uke :",{"$nulls":5},{"$f":"H18","v":0.9375},1.5625,1.5625,1.5625,1.25,{"$f":"SUM(G16:L16)","v":6.875},null,"du skal arbeide i"]
[null,"Antall dager med normal arbeidstid",{"$nulls":5},3,5,5,5,4,{"$f":"SUM(G17:L17)","v":22},null,"dette året (- ferie):"]
[null,"Normal arbeidstid pr dag er timer:",{"$nulls":3},"07:30:00",null,{"$f":"$F$18*H17","v":0.9375},1.5625,1.5625,1.5625,1.25,null,null,{"$f":"Årsoversikt!$C$19","v":249.8}]
[null,"Overtid:",{"$nulls":5},{"$f":"SUM(N31:N36)","v":0},{"$f":"SUM(N37:N43)","v":0},{"$f":"SUM(N44:N50)","v":0},{"$f":"SUM(N51:N57)","v":0},{"$f":"SUM(N58:N61)","v":0},{"$f":"SUM(G19:L19)","v":0},null,{"$f":"SUM(Årsoversikt!$D$19)","v":78.0625}]
[]
["MERKNADER TIL PERIODEN:  "]
["Hvis du lurer på noen felt, kan du la musepekeren hvile på de cellene som har en liten rød trekant øverst i høyre hjørne. Da får du frem en \"Merknad\" med forklaring. De aller fleste feltene er for øvrig låst, slik at du ikke skal kunne endre på skjemaet. \nEtter at du har tatt skjemaet i bruk, bør du slette denne teksten i merknaden.   LES BRUKERVEILEDNINGEN SELV OM DET ER FOR \"FEIGINGER\"! "]
[]
[]
[]
[]
[]
[null,null,"Normal Arbeidstid",null,null,"Ekstra arbeidstid",null,null,"Fravær i arbeidstiden",null,null,"Overtid ",null,null,"Merknad"]
["Dato","Dag","Inn","Ut","Sum","Inn","Ut","Sum","Ut","Inn","Sum","Inn","Ut","Sum"]
[]
["2013-01-01","Tirsdag",null,null,{"$f":"SUM(D31-C31)","v":"00:00:00"},null,null,{"$f":"SUM(G31-F31)","v":"00:00:00"},null,null,{"$f":"SUM(J31-I31)","v":"00:00:00"},null,null,{"$f":"SUM(M31-L31)","v":"00:00:00"},"1. Nyttårsdag"]
[{"$f":"A31+1","v":"2013-01-02"},"Onsdag",null,null,{"$f":"SUM(D32-C32)","v":"00:00:00"},null,null,{"$f":"SUM(G32-F32)","v":"00:00:00"},null,null,{"$f":"SUM(J32-I32)","v":"00:00:00"},null,null,{"$f":"SUM(M32-L32)","v":"00:00:00"},"Uke 1"]
[{"$f":"A32+1","v":"2013-01-03"},"Torsdag",null,null,{"$f":"SUM(D33-C33)","v":"00:00:00"},null,null,{"$f":"SUM(G33-F33)","v":"00:00:00"},null,null,{"$f":"SUM(J33-I33)","v":"00:00:00"},null,null,{"$f":"SUM(M33-L33)","v":"00:00:00"}]
["2013-01-04","Fredag",null,null,"00:00:00",null,null,"00:00:00",null,null,"00:00:00",null,null,"00:00:00"]
["2013-01-05","Lørdag",null,null,"00:00:00",null,null,"00:00:00",null,null,"00:00:00",null,null,"00:00:00"]
["2013-01-06","Søndag",null,null,"00:00:00",null,null,"00:00:00",null,null,"00:00:00",null,null,"00:00:00"]
["2013-01-07","Mandag",null,null,"00:00:00",null,null,"00:00:00",null,null,"00:00:00",null,null,"00:00:00","Uke 2"]
["2013-01-08","Tirsdag",null,null,"00:00:00",null,null,"00:00:00",null,null,"00:00:00",null,null,"00:00:00"]
["2013-01-09","Onsdag",null,null,"00:00:00",null,null,"00:00:00",null,null,"00:00:00",null,null,"00:00:00"]
["2013-01-10","Torsdag",null,null,{"$f":"SUM(D40-C40)","v":"00:00:00"},null,null,{"$f":"SUM(G40-F40)","v":"00:00:00"},null,null,{"$f":"SUM(J40-I40)","v":"00:00:00"},null,null,"00:00:00"]
["2013-01-11","Fredag",null,null,{"$f":"SUM(D41-C41)","v":"00:00:00"},null,null,{"$f":"SUM(G41-F41)","v":"00:00:00"},null,null,{"$f":"SUM(J41-I41)","v":"00:00:00"},null,null,"00:00:00"]
["2013-01-12","Lørdag",null,null,{"$f":"SUM(D42-C42)","v":"00:00:00"},null,null,{"$f":"SUM(G42-F42)","v":"00:00:00"},null,null,{"$f":"SUM(J42-I42)","v":"00:00:00"},null,null,"00:00:00"]
["2013-01-13","Søndag",null,null,{"$f":"SUM(D43-C43)","v":"00:00:00"},null,null,{"$f":"SUM(G43-F43)","v":"00:00:00"},null,null,{"$f":"SUM(J43-I43)","v":"00:00:00"},null,null,{"$f":"SUM(M43-L43)","v":"00:00:00"}]
["2013-01-14","Mandag",null,null,{"$f":"SUM(D44-C44)","v":"00:00:00"},null,null,{"$f":"SUM(G44-F44)","v":"00:00:00"},null,null,{"$f":"SUM(J44-I44)","v":"00:00:00"},null,null,"00:00:00","Uke 3"]
["2013-01-15","Tirsdag",null,null,"00:00:00",null,null,"00:00:00",null,null,"00:00:00",null,null,"00:00:00"]
["2013-01-16","Onsdag",null,null,"00:00:00",null,null,"00:00:00",null,null,"00:00:00",null,null,"00:00:00"]
["2013-01-17","Torsdag",null,null,"00:00:00",null,null,"00:00:00",null,null,"00:00:00",null,null,"00:00:00"]
["2013-01-18","Fredag",null,null,"00:00:00",null,null,"00:00:00",null,null,"00:00:00",null,null,"00:00:00"]
["2013-01-19","Lørdag",null,null,"00:00:00",null,null,"00:00:00",null,null,"00:00:00",null,null,"00:00:00"]
["2013-01-20","Søndag",null,null,{"$f":"SUM(D50-C50)","v":"00:00:00"},null,null,{"$f":"SUM(G50-F50)","v":"00:00:00"},null,null,{"$f":"SUM(J50-I50)","v":"00:00:00"},null,null,"00:00:00"]
["2013-01-21","Mandag",null,null,"00:00:00",null,null,"00:00:00",null,null,"00:00:00",null,null,"00:00:00","Uke 4"]
["2013-01-22","Tirsdag",null,null,"00:00:00",null,null,"00:00:00",null,null,"00:00:00",null,null,"00:00:00"]
["2013-01-23","Onsdag",null,null,"00:00:00",null,null,"00:00:00",null,null,"00:00:00",null,null,"00:00:00"]
["2013-01-24","Torsdag",null,null,"00:00:00",null,null,"00:00:00",null,null,"00:00:00",null,null,"00:00:00"]
["2013-01-25","Fredag",null,null,"00:00:00",null,null,"00:00:00",null,null,"00:00:00",null,null,"00:00:00"]
["2013-01-26","Lørdag",null,null,"00:00:00",null,null,"00:00:00",null,null,"00:00:00",null,null,"00:00:00"]
["2013-01-27","Søndag",null,null,"00:00:00",null,null,"00:00:00",null,null,"00:00:00",null,null,"00:00:00"]
["2013-01-28","Mandag",null,null,"00:00:00",null,null,"00:00:00",null,null,"00:00:00",null,null,"00:00:00","Uke 5"]
["2013-01-29","Tirsdag",null,null,"00:00:00",null,null,"00:00:00",null,null,"00:00:00",null,null,"00:00:00"]
["2013-01-30","Onsdag",null,null,"00:00:00",null,null,"00:00:00",null,null,"00:00:00",null,null,"00:00:00"]
["2013-01-31","Torsdag",null,null,{"$f":"SUM(D61-C61)","v":"00:00:00"},null,null,{"$f":"SUM(G61-F61)","v":"00:00:00"},null,null,{"$f":"SUM(J61-I61)","v":"00:00:00"},null,null,"00:00:00"]
[]
[]
["Signatur (arbeidstaker)",{"$nulls":7},"Godkjent (overordnet)"]
[]
[]
[]
[]
[]
["Dato","Signatur",{"$nulls":6},"Dato","Signatur"]

{"sheet":"Februar","index":2,"n_rows":70,"n_cols":15,"rows_kept":70,"merged":[[0,1,0,11],[0,12,0,13],[1,1,1,11],[1,12,1,13],[3,1,3,11],[3,12,3,13],[4,1,4,11],[4,12,4,13],[5,4,5,5],[5,6,5,11],[5,12,5,13],[7,12,7,13],[8,1,8,2],[8,4,8,5],[8,12,8,13],[9,1,9,5],[9,12,9,13],[10,1,10,5],[10,12,10,13],[11,1,11,5],[11,12,11,13],[12,1,12,5],[12,12,12,13],[13,1,13,5],[13,12,13,13],[14,1,14,5],[14,6,14,11],[14,12,14,13],[15,1,15,5],[15,12,15,13],[16,1,16,5],[16,12,16,13],[17,1,17,4],[17,12,17,13],[18,1,18,5],[18,12,18,13],[20,0,20,3],[21,0,25,14],[27,2,27,4],[27,5,27,7],[27,8,27,10],[27,11,27,13],[63,0,63,5],[63,8,63,13],[68,8,68,9],[69,1,69,6],[69,9,69,14]]}
[null,"Overføres til neste måned - arbeidstid + / - (etter evt utbetaling):",{"$nulls":10},{"$f":"SUM((M13+M15)-M16-M2)","v":-13.125}]
[null,"Sum timer (EA) som utbetales denne måned (trekkes fra timer til gode):",{"$nulls":10},0]
[]
[null,{"$f":"Januar!$B$4","v":"Sum overtid i år (AML § 10-6) Overføres til neste måned:"},{"$nulls":10},{"$f":"SUM((Januar!M4)+M19)","v":0}]
[null,"Utbetalt OT denne måned:",{"$nulls":10},0]
[null,"OT fra forrige mnd:",null,null,{"$f":"SUM(Januar!M6)","v":0},null,"OT til gode (etter utbetaling) denne mnd:",{"$nulls":5},{"$f":"SUM(E6+M19-M5)","v":0}]
[]
[null,"Faktiske timer - Årsdifferanse",{"$nulls":4},"Uke","Uke","Uke","Uke","Uke","Uke","Sum for "]
[null,{"$f":"SUM((Januar!M13+Januar!M19)+M13+M19)","v":0},null,null,{"$f":"SUM(B9-(Januar!O19))","v":-78.0625},null,5,6,{"$f":"H9+1","v":7},{"$f":"I9+1","v":8},{"$f":"J9+1","v":9},null,"måneden."]
[null,"Normal arbeidstid :",{"$nulls":4},{"$f":"SUM(E31:E33)","v":0},{"$f":"SUM(E34:E40)","v":0},{"$f":"SUM(E41:E47)","v":0},{"$f":"SUM(E48:E54)","v":0},{"$f":"SUM(E55:E58)","v":0},null,{"$f":"SUM(G10:L10)","v":0}]
[null,"Ekstra arbeidstid (Ikke OT) :",{"$nulls":4},{"$f":"SUM(H31:H33)","v":0},{"$f":"SUM(H34:H40)","v":0},{"$f":"SUM(H41:H47)","v":0},{"$f":"SUM(H48:H54)","v":0},{"$f":"SUM(H55:H58)","v":0},null,{"$f":"SUM(G11:L11)","v":0}]
[null,{"$f":"Januar!$B$12","v":"Fravær i arbeidstiden:"},{"$nulls":4},{"$f":"SUM(K31:K33)","v":0},{"$f":"SUM(K34:K40)","v":0},{"$f":"SUM(K41:K47)","v":0},{"$f":"SUM(K48:K54)","v":0},{"$f":"SUM(K55:K58)","v":0},null,{"$f":"SUM(G12:L12)","v":0}]
[null,"Sum arbeidstid :",{"$nulls":4},{"$f":"SUM(G10+G11-G12)","v":0},{"$f":"SUM(H10+H11-H12)","v":0},{"$f":"SUM(I10+I11-I12)","v":0},{"$f":"SUM(J10+J11-J12)","v":0},{"$f":"SUM(K10+K11-K12)","v":0},null,{"$f":"SUM(G13:L13)","v":0},{"$f":"SUM(N10+N11-N12-N16)","v":0}]
[null,"+ / - arbeidstid pr. uke :",{"$nulls":4},{"$f":"SUM(G13-G16)","v":-0.3125},{"$f":"SUM(H13-H16)","v":-1.5625},{"$f":"SUM(I13-I16)","v":-1.5625},{"$f":"SUM(J13-J16)","v":-1.5625},{"$f":"SUM(K13-K16)","v":-1.25},null,{"$f":"SUM(G14:L14)","v":-6.25}]
[null,"Overført fra forrige måned:",{"$nulls":10},{"$f":"Januar!M1","v":-6.875}]
[null,{"$f":"Januar!$B$16","v":"Normal arbeidstid pr uke :"},{"$nulls":4},{"$f":"G18","v":0.3125},{"$f":"H18","v":1.5625},1.5625,1.5625,1.25,null,{"$f":"SUM(G16:L16)","v":6.25}]
[null,{"$f":"Januar!$B$17","v":"Antall dager med normal arbeidstid"},{"$nulls":4},1,5,5,5,4,null,{"$f":"SUM(G17:L17)","v":20}]
[null,{"$f":"Januar!$B$18","v":"Normal arbeidstid pr dag er timer:"},{"$nulls":3},{"$f":"Januar!$F$18","v":"07:30:00"},{"$f":"$F$18*G17","v":0.3125},{"$f":"$F$18*H17","v":1.5625},1.5625,1.5625,1.25]
[null,"Overtid:",{"$nulls":4},{"$f":"SUM(N31:N33)","v":0},{"$f":"SUM(N34:N40)","v":0},{"$f":"SUM(N41:N47)","v":0},{"$f":"SUM(N48:N54)","v":0},{"$f":"SUM(N55:N58)","v":0},null,{"$f":"SUM(G19:L19)","v":0}]
[]
["MERKNADER TIL PERIODEN:  "]
[]
[]
[]
[]
[]
[]
[null,null,"Normal Arbeidstid",null,null,"Ekstra arbeidstid",null,null,"Fravær i arbeidstiden",null,null,{"$f":"Januar!$L$28","v":"Overtid "},null,null,"Merknad"]
["Dato","Dag","Inn","Ut","Sum","Inn","Ut","Sum","Ut","Inn","Sum","Inn","Ut","Sum"]
[]
[{"$f":"Januar!$A$61+1","v":"2013-02-01"},"Fredag",null,null,{"$f":"SUM(D31-C31)","v":"00:00:00"},null,null,{"$f":"SUM(G31-F31)","v":"00:00:00"},null,null,{"$f":"SUM(J31-I31)","v":"00:00:00"},null,null,{"$f":"SUM(M31-L31)","v":"00:00:00"},"Uke 5"]
[{"$f":"A31+1","v":"2013-02-02"},"Lørdag",null,null,"00:00:00",null,null,"00:00:00",null,null,"00:00:00",null,null,"00:00:00"]
[{"$f":"A32+1","v":"2013-02-03"},"Søndag",null,null,"00:00:00",null,null,"00:00:00",null,null,"00:00:00",null,null,"00:00:00"]
["2013-02-04","Mandag",null,null,"00:00:00",null,null,"00:00:00",null,null,"00:00:00",null,null,"00:00:00","Uke 6"]
["2013-02-05","Tirsdag",null,null,"00:00:00",null,null,"00:00:00",null,null,"00:00:00",null,null,"00:00:00"]
["2013-02-06","Onsdag",null,null,{"$f":"SUM(D36-C36)","v":"00:00:00"},null,null,{"$f":"SUM(G36-F36)","v":"00:00:00"},null,null,"00:00:00",null,null,{"$f":"SUM(M36-L36)","v":"00:00:00"}]
["2013-02-07","Torsdag",null,null,"00:00:00",null,null,"00:00:00",null,null,"00:00:00",null,null,"00:00:00"]
["2013-02-08","Fredag",null,null,"00:00:00",null,null,"00:00:00",null,null,"00:00:00",null,null,"00:00:00"]
["2013-02-09","Lørdag",null,null,"00:00:00",null,null,"00:00:00",null,null,"00:00:00",null,null,"00:00:00"]
["2013-02-10","Søndag",null,null,"00:00:00",null,null,"00:00:00",null,null,"00:00:00",null,null,"00:00:00","Fasterlavn"]
["2013-02-11","Mandag",null,null,"00:00:00",null,null,"00:00:00",null,null,"00:00:00",null,null,"00:00:00","Uke 7"]
["2013-02-12","Tirsdag",null,null,{"$f":"SUM(D42-C42)","v":"00:00:00"},null,null,{"$f":"SUM(G42-F42)","v":"00:00:00"},null,null,{"$f":"SUM(J42-I42)","v":"00:00:00"},null,null,{"$f":"SUM(M42-L42)","v":"00:00:00"}]
["2013-02-13","Onsdag",null,null,{"$f":"SUM(D43-C43)","v":"00:00:00"},null,null,{"$f":"SUM(G43-F43)","v":"00:00:00"},null,null,{"$f":"SUM(J43-I43)","v":"00:00:00"},null,null,{"$f":"SUM(M43-L43)","v":"00:00:00"}]
["2013-02-14","Torsdag",null,null,"00:00:00",null,null,"00:00:00",null,null,"00:00:00",null,null,"00:00:00"]
["2013-02-15","Fredag",null,null,"00:00:00",null,null,"00:00:00",null,null,"00:00:00",null,null,"00:00:00"]
["2013-02-16","Lørdag",null,null,"00:00:00",null,null,"00:00:00",null,null,"00:00:00",null,null,"00:00:00"]
["2013-02-17","Søndag",null,null,"00:00:00",null,null,"00:00:00",null,null,"00:00:00",null,null,"00:00:00"]
["2013-02-18","Mandag",null,null,"00:00:00",null,null,"00:00:00",null,null,{"$f":"SUM(J48-I48)","v":"00:00:00"},null,null,"00:00:00","Uke 8"]
["2013-02-19","Tirsdag",null,null,{"$f":"SUM(D49-C49)","v":"00:00:00"},null,null,{"$f":"SUM(G49-F49)","v":"00:00:00"},null,null,"00:00:00",null,null,{"$f":"SUM(M49-L49)","v":"00:00:00"}]
["2013-02-20","Onsdag",null,null,{"$f":"SUM(D50-C50)","v":"00:00:00"},null,null,{"$f":"SUM(G50-F50)","v":"00:00:00"},null,null,"00:00:00",null,null,{"$f":"SUM(M50-L50)","v":"00:00:00"}]
["2013-02-21","Torsdag",null,null,"00:00:00",null,null,"00:00:00",null,null,"00:00:00",null,null,"00:00:00"]
["2013-02-22","Fredag",null,null,"00:00:00",null,null,"00:00:00",null,null,"00:00:00",null,null,"00:00:00"]
["2013-02-23","Lørdag",null,null,"00:00:00",null,null,"00:00:00",null,null,"00:00:00",null,null,"00:00:00"]
["2013-02-24","Søndag",null,null,"00:00:00",null,null,"00:00:00",null,null,"00:00:00",null,null,"00:00:00"]
["2013-02-25","Mandag",null,null,"00:00:00",null,null,"00:00:00",null,null,"00:00:00",null,null,"00:00:00","Uke 9"]
["2013-02-26","Tirsdag",null,null,{"$f":"SUM(D56-C56)","v":"00:00:00"},null,null,{"$f":"SUM(G56-F56)","v":"00:00:00"},null,null,"00:00:00",null,null,{"$f":"SUM(M56-L56)","v":"00:00:00"}]
["2013-02-27","Onsdag",null,null,{"$f":"SUM(D57-C57)","v":"00:00:00"},null,null,{"$f":"SUM(G57-F57)","v":"00:00:00"},null,null,"00:00:00",null,null,{"$f":"SUM(M57-L57)","v":"00:00:00"}]
["2013-02-28","Torsdag",null,null,{"$f":"SUM(D58-C58)","v":"00:00:00"},null,null,{"$f":"SUM(G58-F58)","v":"00:00:00"},null,null,{"$f":"SUM(J58-I58)","v":"00:00:00"},null,null,{"$f":"SUM(M58-L58)","v":"00:00:00"}]
[]
[]
[]
[]
[]
["Signatur (arbeidstaker)",{"$nulls":7},"Godkjent (overordnet)"]
[]
[]
[]
[]
[]
["Dato","Signatur",{"$nulls":6},"Dato","Signatur"]

{"sheet":"Mars","index":3,"n_rows":70,"n_cols":15,"rows_kept":70,"merged":[[0,1,0,11],[0,12,0,13],[1,1,1,11],[1,12,1,13],[3,1,3,11],[3,12,3,13],[4,1,4,11],[4,12,4,13],[5,4,5,5],[5,6,5,11],[5,12,5,13],[7,12,7,13],[8,1,8,2],[8,4,8,5],[8,12,8,13],[9,1,9,5],[9,12,9,13],[10,1,10,5],[10,12,10,13],[11,1,11,5],[11,12,11,13],[12,1,12,5],[12,12,12,13],[13,1,13,5],[13,12,13,13],[14,1,14,5],[14,10,14,11],[14,12,14,13],[15,1,15,5],[15,12,15,13],[16,1,16,5],[16,12,16,13],[17,1,17,4],[17,12,17,13],[18,1,18,5],[18,12,18,13],[20,0,20,3],[21,0,25,14],[27,2,27,4],[27,5,27,7],[27,8,27,10],[27,11,27,13],[63,0,63,5],[63,8,63,13],[68,8,68,9],[69,1,69,6],[69,9,69,14]]}
[null,"Overføres til neste måned - arbeidstid + / - (etter evt utbetaling):",{"$nulls":10},{"$f":"SUM((M13+M15)-M16-M2)","v":-18.9375}]
[null,"Sum timer (EA) som utbetales denne måned (trekkes fra timer til gode):",{"$nulls":10},0]
[]
[null,{"$f":"Januar!$B$4","v":"Sum overtid i år (AML § 10-6) Overføres til neste måned:"},{"$nulls":10},{"$f":"SUM((Februar!M4)+M19)","v":0}]
[null,"Utbetalt OT denne måned:",{"$nulls":10},0]
[null,"OT fra forrige mnd:",null,null,{"$f":"SUM(Februar!M6)","v":0},null,"OT til gode (etter utbetaling) denne mnd:",{"$nulls":5},{"$f":"SUM(E6+M19-M5)","v":0}]
[]
[null,"Faktiske timer - Årsdifferanse",{"$nulls":4},"Uke","Uke","Uke","Uke","Uke","Uke","Sum for "]
[null,{"$f":"SUM((Februar!B9)+M13+M19)","v":0},null,null,{"$f":"SUM(B9-(Januar!O19))","v":-78.0625},null,9,{"$f":"G9+1","v":10},{"$f":"H9+1","v":11},{"$f":"I9+1","v":12},{"$f":"J9+1","v":13},{"$f":"K9+1","v":14},"måneden."]
[null,"Normal arbeidstid :",{"$nulls":4},{"$f":"SUM(E31:E33)","v":0},{"$f":"SUM(E34:E40)","v":0},{"$f":"SUM(E41:E47)","v":0},{"$f":"SUM(E48:E54)","v":0},{"$f":"SUM(E55:E61)","v":0},null,{"$f":"SUM(G10:L10)","v":0}]
[null,"Ekstra arbeidstid (Ikke OT) :",{"$nulls":4},{"$f":"SUM(H31:H33)","v":0},{"$f":"SUM(H34:H40)","v":0},{"$f":"SUM(H41:H47)","v":0},{"$f":"SUM(H48:H54)","v":0},{"$f":"SUM(H55:H61)","v":0},null,{"$f":"SUM(G11:L11)","v":0}]
[null,{"$f":"Januar!$B$12","v":"Fravær i arbeidstiden:"},{"$nulls":4},{"$f":"SUM(K31:K33)","v":0},{"$f":"SUM(K34:K40)","v":0},{"$f":"SUM(K41:K47)","v":0},{"$f":"SUM(K48:K54)","v":0},{"$f":"SUM(K55:K61)","v":0},null,{"$f":"SUM(G12:L12)","v":0}]
[null,"Sum arbeidstid :",{"$nulls":4},{"$f":"SUM(G10+G11-G12)","v":0},{"$f":"SUM(H10+H11-H12)","v":0},{"$f":"SUM(I10+I11-I12)","v":0},{"$f":"SUM(J10+J11-J12)","v":0},{"$f":"SUM(K10+K11-K12)","v":0},null,{"$f":"SUM(G13:L13)","v":0},{"$f":"SUM(N10+N11-N12-N16)","v":0}]
[null,"+ / - arbeidstid pr. uke :",{"$nulls":4},{"$f":"SUM(G13-G16)","v":-0.3125},{"$f":"SUM(H13-H16)","v":-1.5625},{"$f":"SUM(I13-I16)","v":-1.5625},{"$f":"SUM(J13-J16)","v":-1.5625},{"$f":"SUM(K13-K16)","v":-0.8125},null,{"$f":"SUM(G14:L14)","v":-5.8125}]
[null,"Overført fra forrige måned:",{"$nulls":10},{"$f":"Februar!$M$1","v":-13.125}]
[null,{"$f":"Januar!$B$16","v":"Normal arbeidstid pr uke :"},{"$nulls":4},{"$f":"G18","v":0.3125},{"$f":"H18","v":1.5625},1.5625,1.5625,0.8125,null,{"$f":"SUM(G16:L16)","v":5.8125}]
[null,{"$f":"Januar!$B$17","v":"Antall dager med normal arbeidstid"},{"$nulls":4},1,5,5,5,2.6,null,{"$f":"SUM(G17:L17)","v":18.6}]
[null,{"$f":"Januar!$B$18","v":"Normal arbeidstid pr dag er timer:"},{"$nulls":3},{"$f":"Januar!$F$18","v":"07:30:00"},{"$f":"$F$18*G17","v":0.3125},{"$f":"$F$18*H17","v":1.5625},1.5625,1.5625,0.8125]
[null,{"$f":"Februar!$B$19","v":"Overtid:"},{"$nulls":4},{"$f":"SUM(N31:N33)","v":0},{"$f":"SUM(N34:N40)","v":0},{"$f":"SUM(N41:N47)","v":0},{"$f":"SUM(N48:N54)","v":0},{"$f":"SUM(N55:N61)","v":0},null,{"$f":"SUM(G19:L19)","v":0}]
[]
["MERKNADER TIL PERIODEN:  "]
[]
[]
[]
[]
[]
[]
[null,null,"Normal Arbeidstid",null,null,"Ekstra arbeidstid",null,null,"Fravær i arbeidstiden",null,null,{"$f":"Februar!$L$28","v":"Overtid "},null,null,"Merknad"]
["Dato","Dag","Inn","Ut","Sum","Inn","Ut","Sum","Ut","Inn","Sum","Inn","Ut","Sum"]
[]
[{"$f":"Februar!$A$58+1","v":"2013-03-01"},"Fredag",null,null,{"$f":"SUM(D31-C31)","v":"00:00:00"},null,null,{"$f":"SUM(G31-F31)","v":"00:00:00"},null,null,{"$f":"SUM(J31-I31)","v":"00:00:00"},null,null,{"$f":"SUM(M31-L31)","v":"00:00:00"},"Uke 9"]
[{"$f":"A31+1","v":"2013-03-02"},"Lørdag",null,null,"00:00:00",null,null,"00:00:00",null,null,"00:00:00",null,null,"00:00:00"]
[{"$f":"A32+1","v":"2013-03-03"},"Søndag",null,null,"00:00:00",null,null,"00:00:00",null,null,"00:00:00",null,null,"00:00:00"]
["2013-03-04","Mandag",null,null,"00:00:00",null,null,"00:00:00",null,null,"00:00:00",null,null,"00:00:00","Uke 10"]
["2013-03-05","Tirsdag",null,null,"00:00:00",null,null,"00:00:00",null,null,"00:00:00",null,null,"00:00:00"]
["2013-03-06","Onsdag",null,null,"00:00:00",null,null,"00:00:00",null,null,"00:00:00",null,null,"00:00:00"]
["2013-03-07","Torsdag",null,null,"00:00:00",null,null,"00:00:00",null,null,"00:00:00",null,null,"00:00:00"]
["2013-03-08","Fredag",null,null,"00:00:00",null,null,"00:00:00",null,null,"00:00:00",null,null,"00:00:00"]
["2013-03-09","Lørdag",null,null,"00:00:00",null,null,"00:00:00",null,null,"00:00:00",null,null,"00:00:00"]
["2013-03-10","Søndag",null,null,"00:00:00",null,null,"00:00:00",null,null,"00:00:00",null,null,"00:00:00"]
["2013-03-11","Mandag",null,null,"00:00:00",null,null,"00:00:00",null,null,"00:00:00",null,null,"00:00:00","Uke 11"]
["2013-03-12","Tirsdag",null,null,"00:00:00",null,null,"00:00:00",null,null,"00:00:00",null,null,"00:00:00"]
["2013-03-13","Onsdag",null,null,"00:00:00",null,null,"00:00:00",null,null,"00:00:00",null,null,"00:00:00"]
["2013-03-14","Torsdag",null,null,"00:00:00",null,null,"00:00:00",null,null,"00:00:00",null,null,"00:00:00"]
["2013-03-15","Fredag",null,null,"00:00:00",null,null,"00:00:00",null,null,"00:00:00",null,null,"00:00:00"]
["2013-03-16","Lørdag",null,null,"00:00:00",null,null,"00:00:00",null,null,"00:00:00",null,null,"00:00:00"]
["2013-03-17","Søndag",null,null,"00:00:00",null,null,"00:00:00",null,null,"00:00:00",null,null,"00:00:00"]
["2013-03-18","Mandag",null,null,"00:00:00",null,null,"00:00:00",null,null,{"$f":"SUM(J48-I48)","v":"00:00:00"},null,null,"00:00:00","Uke 12"]
["2013-03-19","Tirsdag",null,null,"00:00:00",null,null,"00:00:00",null,null,"00:00:00",null,null,"00:00:00"]
["2013-03-20","Onsdag",null,null,"00:00:00",null,null,"00:00:00",null,null,"00:00:00",null,null,"00:00:00"]
["2013-03-21","Torsdag",null,null,"00:00:00",null,null,"00:00:00",null,null,"00:00:00",null,null,"00:00:00"]
["2013-03-22","Fredag",null,null,"00:00:00",null,null,"00:00:00",null,null,"00:00:00",null,null,"00:00:00"]
["2013-03-23","Lørdag",null,null,"00:00:00",null,null,"00:00:00",null,null,"00:00:00",null,null,"00:00:00"]
["2013-03-24","Søndag",null,null,"00:00:00",null,null,"00:00:00",null,null,"00:00:00",null,null,"00:00:00"]
["2013-03-25","Mandag",null,null,"00:00:00",null,null,"00:00:00",null,null,"00:00:00",null,null,"00:00:00","Uke 13"]
["2013-03-26","Tirsdag",null,null,"00:00:00",null,null,"00:00:00",null,null,"00:00:00",null,null,"00:00:00"]
["2013-03-27","Onsdag",null,null,"00:00:00",null,null,"00:00:00",null,null,"00:00:00",null,null,"00:00:00","(4:30t)"]
["2013-03-28","Torsdag",null,null,"00:00:00",null,null,"00:00:00",null,null,"00:00:00",null,null,"00:00:00","Skjærtorsdag"]
["2013-03-29","Fredag",null,null,"00:00:00",null,null,"00:00:00",null,null,"00:00:00",null,null,"00:00:00","Langfredag"]
["2013-03-30","Lørdag",null,null,"00:00:00",null,null,"00:00:00",null,null,"00:00:00",null,null,"00:00:00","Påskeaften"]
["2013-03-31","Søndag",null,null,"00:00:00",null,null,"00:00:00",null,null,"00:00:00",null,null,"00:00:00","1. påskedag"]
[]
[]
["Signatur (arbeidstaker)",{"$nulls":7},"Godkjent (overordnet)"]
[]
[]
[]
[]
[]
["Dato","Signatur",{"$nulls":6},"Dato","Signatur"]

{"sheet":"April","index":4,"n_rows":69,"n_cols":15,"rows_kept":69,"merged":[[0,1,0,11],[0,12,0,13],[1,1,1,11],[1,12,1,13],[3,1,3,11],[3,12,3,13],[4,1,4,11],[4,12,4,13],[5,4,5,5],[5,6,5,11],[5,12,5,13],[7,12,7,13],[8,1,8,2],[8,4,8,5],[8,12,8,13],[9,1,9,5],[9,12,9,13],[10,1,10,5],[10,12,10,13],[11,1,11,5],[11,12,11,13],[12,1,12,5],[12,12,12,13],[13,1,13,5],[13,12,13,13],[14,1,14,5],[14,6,14,11],[14,12,14,13],[15,1,15,5],[15,12,15,13],[16,1,16,5],[16,12,16,13],[17,1,17,4],[17,12,17,13],[18,1,18,5],[18,12,18,13],[20,0,20,3],[21,0,25,14],[27,2,27,4],[27,5,27,7],[27,8,27,10],[27,11,27,13],[62,0,62,5],[62,8,62,13],[67,8,67,9],[68,1,68,6],[68,9,68,14]]}
[null,"Overføres til neste måned - arbeidstid + / - (etter evt utbetaling):",{"$nulls":10},{"$f":"SUM((M13+M15)-M16-M2)","v":-25.5}]
[null,"Sum timer (EA) som utbetales denne måned (trekkes fra timer til gode):",{"$nulls":10},0]
[]
[null,{"$f":"Januar!$B$4","v":"Sum overtid i år (AML § 10-6) Overføres til neste måned:"},{"$nulls":10},{"$f":"SUM((Mars!M4)+M19)","v":0}]
[null,"Utbetalt OT denne måned:",{"$nulls":10},0]
[null,"OT fra forrige mnd:",null,null,{"$f":"SUM(Mars!M6)","v":0},null,"OT til gode (etter utbetaling) denne mnd:",{"$nulls":5},{"$f":"SUM(E6+M19-M5)","v":0}]
[]
[null,"Faktiske timer - Årsdifferanse",{"$nulls":4},"Uke","Uke","Uke","Uke","Uke",null,"Sum for "]
[null,{"$f":"SUM((Mars!B9)+M13+M19)","v":0},null,null,{"$f":"SUM(B9-(Januar!O19))","v":-78.0625},null,13,{"$f":"G9+1","v":14},{"$f":"H9+1","v":15},{"$f":"I9+1","v":16},{"$f":"J9+1","v":17},{"$f":"K9+1","v":18},"måneden."]
[null,"Normal arbeidstid :",{"$nulls":5},{"$f":"SUM(E31:E37)","v":0},{"$f":"SUM(E38:E44)","v":0},{"$f":"SUM(E45:E51)","v":0},{"$f":"SUM(E52:E58)","v":0},{"$f":"SUM(E59:E60)","v":0},{"$f":"SUM(G10:L10)","v":0}]
[null,"Ekstra arbeidstid (Ikke OT) :",{"$nulls":5},{"$f":"SUM(H31:H37)","v":0},{"$f":"SUM(H38:H44)","v":0},{"$f":"SUM(H45:H51)","v":0},{"$f":"SUM(H52:H58)","v":0},{"$f":"SUM(H59:H60)","v":0},{"$f":"SUM(G11:L11)","v":0}]
[null,{"$f":"Januar!$B$12","v":"Fravær i arbeidstiden:"},{"$nulls":5},{"$f":"SUM(K31:K37)","v":0},{"$f":"SUM(K38:K44)","v":0},{"$f":"SUM(K45:K51)","v":0},{"$f":"SUM(K52:K58)","v":0},{"$f":"SUM(K59:K60)","v":0},{"$f":"SUM(G12:L12)","v":0}]
[null,"Sum arbeidstid :",{"$nulls":5},{"$f":"SUM(H10+H11-H12)","v":0},0,{"$f":"SUM(J10+J11-J12)","v":0},0,{"$f":"SUM(L10+L11-L12)","v":0},{"$f":"SUM(G13:L13)","v":0},{"$f":"SUM(N10+N11-N12-#REF!)","v":{"$error":"#REF!"}}]
[null,"+ / - arbeidstid pr. uke :",{"$nulls":5},{"$f":"SUM(H13-H16)","v":-1.25},-1.5625,-1.5625,-1.5625,-0.625,{"$f":"SUM(G14:L14)","v":-6.5625}]
[null,"Overført fra forrige måned:",{"$nulls":10},{"$f":"Mars!$M$1","v":-18.9375}]
[null,{"$f":"Januar!$B$16","v":"Normal arbeidstid pr uke :"},{"$nulls":5},{"$f":"H18","v":1.25},1.5625,1.5625,1.5625,0.625,{"$f":"SUM(G16:L16)","v":6.5625}]
[null,{"$f":"Januar!$B$17","v":"Antall dager med normal arbeidstid"},{"$nulls":5},4,5,5,5,2,{"$f":"SUM(G17:L17)","v":21}]
[null,{"$f":"Januar!$B$18","v":"Normal arbeidstid pr dag er timer:"},{"$nulls":3},{"$f":"Januar!$F$18","v":"07:30:00"},null,{"$f":"$F$18*H17","v":1.25},1.5625,1.5625,1.5625,0.625]
[null,{"$f":"Mars!$B$19","v":"Overtid:"},{"$nulls":5},{"$f":"SUM(N31:N37)","v":0},{"$f":"SUM(N38:N44)","v":0},{"$f":"SUM(N45:N51)","v":0},{"$f":"SUM(N52:N58)","v":0},{"$f":"SUM(N59:N60)","v":0},{"$f":"SUM(G19:L19)","v":0}]
[]
["MERKNADER TIL PERIODEN:  "]
[]
[]
[]
[]
[]
[]
[null,null,"Normal Arbeidstid",null,null,"Ekstra arbeidstid",null,null,"Fravær i arbeidstiden",null,null,{"$f":"Mars!$L$28","v":"Overtid "},null,null,"Merknad"]
["Dato","Dag","Inn","Ut","Sum","Inn","Ut","Sum","Ut","Inn","Sum","Inn","Ut","Sum"]
[]
[{"$f":"Mars!$A$61+1","v":"2013-04-01"},"Mandag",null,null,{"$f":"SUM(D31-C31)","v":"00:00:00"},null,null,{"$f":"SUM(G31-F31)","v":"00:00:00"},null,null,{"$f":"SUM(J31-I31)","v":"00:00:00"},null,null,{"$f":"SUM(M31-L31)","v":"00:00:00"},"2. påskedag"]
[{"$f":"A31+1","v":"2013-04-02"},"Tirsdag",null,null,"00:00:00",null,null,"00:00:00",null,null,"00:00:00",null,null,"00:00:00","Uke 14"]
[{"$f":"A32+1","v":"2013-04-03"},"Onsdag",null,null,{"$f":"SUM(D33-C33)","v":"00:00:00"},null,null,{"$f":"SUM(G33-F33)","v":"00:00:00"},null,null,{"$f":"SUM(J33-I33)","v":"00:00:00"},null,null,{"$f":"SUM(M33-L33)","v":"00:00:00"}]
["2013-04-04","Torsdag",null,null,"00:00:00",null,null,"00:00:00",null,null,"00:00:00",null,null,"00:00:00"]
["2013-04-05","Fredag",null,null,"00:00:00",null,null,"00:00:00",null,null,"00:00:00",null,null,"00:00:00"]
["2013-04-06","Lørdag",null,null,"00:00:00",null,null,"00:00:00",null,null,"00:00:00",null,null,"00:00:00"]
["2013-04-07","Søndag",null,null,"00:00:00",null,null,"00:00:00",null,null,"00:00:00",null,null,"00:00:00"]
["2013-04-08","Mandag",null,null,"00:00:00",null,null,"00:00:00",null,null,"00:00:00",null,null,"00:00:00","Uke 15"]
["2013-04-09","Tirsdag",null,null,{"$f":"SUM(D39-C39)","v":"00:00:00"},null,null,{"$f":"SUM(G39-F39)","v":"00:00:00"},null,null,{"$f":"SUM(J39-I39)","v":"00:00:00"},null,null,{"$f":"SUM(M39-L39)","v":"00:00:00"}]
["2013-04-10","Onsdag",null,null,{"$f":"SUM(D40-C40)","v":"00:00:00"},null,null,{"$f":"SUM(G40-F40)","v":"00:00:00"},null,null,{"$f":"SUM(J40-I40)","v":"00:00:00"},null,null,{"$f":"SUM(M40-L40)","v":"00:00:00"}]
["2013-04-11","Torsdag",null,null,"00:00:00",null,null,"00:00:00",null,null,"00:00:00",null,null,"00:00:00"]
["2013-04-12","Fredag",null,null,"00:00:00",null,null,"00:00:00",null,null,"00:00:00",null,null,"00:00:00"]
["2013-04-13","Lørdag",null,null,"00:00:00",null,null,"00:00:00",null,null,"00:00:00",null,null,"00:00:00"]
["2013-04-14","Søndag",null,null,"00:00:00",null,null,"00:00:00",null,null,"00:00:00",null,null,"00:00:00"]
["2013-04-15","Mandag",null,null,"00:00:00",null,null,"00:00:00",null,null,"00:00:00",null,null,"00:00:00","Uke 16"]
["2013-04-16","Tirsdag",null,null,{"$f":"SUM(D46-C46)","v":"00:00:00"},null,null,{"$f":"SUM(G46-F46)","v":"00:00:00"},null,null,{"$f":"SUM(J46-I46)","v":"00:00:00"},null,null,{"$f":"SUM(M46-L46)","v":"00:00:00"}]
["2013-04-17","Onsdag",null,null,{"$f":"SUM(D47-C47)","v":"00:00:00"},null,null,{"$f":"SUM(G47-F47)","v":"00:00:00"},null,null,{"$f":"SUM(J47-I47)","v":"00:00:00"},null,null,{"$f":"SUM(M47-L47)","v":"00:00:00"}]
["2013-04-18","Torsdag",null,null,"00:00:00",null,null,"00:00:00",null,null,"00:00:00",null,null,"00:00:00"]
["2013-04-19","Fredag",null,null,"00:00:00",null,null,"00:00:00",null,null,{"$f":"SUM(J49-I49)","v":"00:00:00"},null,null,"00:00:00"]
["2013-04-20","Lørdag",null,null,"00:00:00",null,null,"00:00:00",null,null,"00:00:00",null,null,"00:00:00"]
["2013-04-21","Søndag",null,null,"00:00:00",null,null,"00:00:00",null,null,"00:00:00",null,null,"00:00:00"]
["2013-04-22","Mandag",null,null,"00:00:00",null,null,"00:00:00",null,null,"00:00:00",null,null,"00:00:00","Uke 17"]
["2013-04-23","Tirsdag",null,null,{"$f":"SUM(D53-C53)","v":"00:00:00"},null,null,{"$f":"SUM(G53-F53)","v":"00:00:00"},null,null,"00:00:00",null,null,{"$f":"SUM(M53-L53)","v":"00:00:00"}]
["2013-04-24","Onsdag",null,null,{"$f":"SUM(D54-C54)","v":"00:00:00"},null,null,{"$f":"SUM(G54-F54)","v":"00:00:00"},null,null,"00:00:00",null,null,{"$f":"SUM(M54-L54)","v":"00:00:00"}]
["2013-04-25","Torsdag",null,null,"00:00:00",null,null,"00:00:00",null,null,"00:00:00",null,null,"00:00:00"]
["2013-04-26","Fredag",null,null,"00:00:00",null,null,"00:00:00",null,null,"00:00:00",null,null,"00:00:00"]
["2013-04-27","Lørdag",null,null,"00:00:00",null,null,"00:00:00",null,null,"00:00:00",null,null,"00:00:00"]
["2013-04-28","Søndag",null,null,"00:00:00",null,null,"00:00:00",null,null,"00:00:00",null,null,"00:00:00"]
["2013-04-29","Mandag",null,null,"00:00:00",null,null,"00:00:00",null,null,"00:00:00",null,null,"00:00:00","Uke 18"]
["2013-04-30","Tirsdag",null,null,{"$f":"SUM(D60-C60)","v":"00:00:00"},null,null,{"$f":"SUM(G60-F60)","v":"00:00:00"},null,null,"00:00:00",null,null,{"$f":"SUM(M60-L60)","v":"00:00:00"}]
[]
[]
["Signatur (arbeidstaker)",{"$nulls":7},"Godkjent (overordnet)"]
[]
[]
[]
[]
[]
["Dato","Signatur",{"$nulls":6},"Dato","Signatur"]

{"sheet":"Mai","index":5,"n_rows":70,"n_cols":15,"rows_kept":70,"merged":[[0,1,0,11],[0,12,0,13],[1,1,1,11],[1,12,1,13],[3,1,3,11],[3,12,3,13],[4,1,4,11],[4,12,4,13],[5,4,5,5],[5,6,5,11],[5,12,5,13],[7,12,7,13],[8,1,8,2],[8,4,8,5],[8,12,8,13],[9,1,9,5],[9,12,9,13],[10,1,10,5],[10,12,10,13],[11,1,11,5],[11,12,11,13],[12,1,12,5],[12,12,12,13],[13,1,13,5],[13,12,13,13],[14,1,14,5],[14,10,14,11],[14,12,14,13],[15,1,15,5],[15,12,15,13],[16,1,16,5],[16,12,16,13],[17,1,17,4],[17,12,17,13],[18,1,18,5],[18,12,18,13],[20,0,20,3],[21,0,25,14],[27,2,27,4],[27,5,27,7],[27,8,27,10],[27,11,27,13],[63,0,63,5],[63,8,63,13],[68,8,68,9],[69,1,69,6],[69,9,69,14]]}
[null,"Overføres til neste måned - arbeidstid + / - (etter evt utbetaling):",{"$nulls":10},{"$f":"SUM((M13+M15)-M16-M2)","v":-31.4375}]
[null,"Sum timer (EA) som utbetales denne måned (trekkes fra timer til gode):",{"$nulls":10},0]
[]
[null,{"$f":"Januar!$B$4","v":"Sum overtid i år (AML § 10-6) Overføres til neste måned:"},{"$nulls":10},{"$f":"SUM((April!M4)+M19)","v":0}]
[null,"Utbetalt OT denne måned:",{"$nulls":10},0]
[null,"OT fra forrige mnd:",null,null,{"$f":"SUM(April!M6)","v":0},null,"OT til gode (etter utbetaling) denne mnd:",{"$nulls":5},{"$f":"SUM(E6+M19-M5)","v":0}]
[]
[null,"Faktiske timer - Årsdifferanse",{"$nulls":4},"Uke","Uke","Uke","Uke","Uke","Uke","Sum for "]
[null,{"$f":"SUM((April!B9)+M13+M19)","v":0},null,null,{"$f":"SUM(B9-(Januar!O19))","v":-78.0625},null,17,{"$f":"G9+1","v":18},{"$f":"H9+1","v":19},{"$f":"I9+1","v":20},{"$f":"J9+1","v":21},{"$f":"K9+1","v":22},"måneden."]
[null,"Normal arbeidstid :",{"$nulls":5},{"$f":"SUM(E31:E35)","v":0},{"$f":"SUM(E36:E42)","v":0},{"$f":"SUM(E43:E49)","v":0},{"$f":"SUM(E50:E56)","v":0},{"$f":"SUM(E57:E61)","v":0},{"$f":"SUM(G10:L10)","v":0}]
[null,"Ekstra arbeidstid (Ikke OT) :",{"$nulls":5},{"$f":"SUM(H31:H35)","v":0},{"$f":"SUM(H36:H42)","v":0},{"$f":"SUM(H43:H49)","v":0},{"$f":"SUM(H50:H56)","v":0},{"$f":"SUM(H57:H61)","v":0},{"$f":"SUM(G11:L11)","v":0}]
[null,{"$f":"Januar!$B$12","v":"Fravær i arbeidstiden:"},{"$nulls":5},{"$f":"SUM(K31:K35)","v":0},{"$f":"SUM(K36:K42)","v":0},{"$f":"SUM(K43:K49)","v":0},{"$f":"SUM(K50:K56)","v":0},{"$f":"SUM(K57:K61)","v":0},{"$f":"SUM(G12:L12)","v":0}]
[null,"Sum arbeidstid :",{"$nulls":5},{"$f":"SUM(H10+H11-H12)","v":0},0,{"$f":"SUM(J10+J11-J12)","v":0},0,0,{"$f":"SUM(G13:L13)","v":0},{"$f":"SUM(N10+N11-N12-N16)","v":0}]
[null,"+ / - arbeidstid pr. uke :",{"$nulls":5},{"$f":"SUM(H13-H16)","v":-0.625},-1.25,-1.25,-1.25,-1.5625,{"$f":"SUM(G14:L14)","v":-5.9375}]
[null,"Overført fra forrige måned:",{"$nulls":10},{"$f":"April!$M$1","v":-25.5}]
[null,{"$f":"Januar!$B$16","v":"Normal arbeidstid pr uke :"},{"$nulls":5},{"$f":"H18","v":0.625},{"$f":"I18","v":1.25},1.25,1.25,1.5625,{"$f":"SUM(G16:L16)","v":5.9375}]
[null,{"$f":"Januar!$B$17","v":"Antall dager med normal arbeidstid"},{"$nulls":5},2,4,4,4,5,{"$f":"SUM(G17:L17)","v":19}]
[null,{"$f":"Januar!$B$18","v":"Normal arbeidstid pr dag er timer:"},{"$nulls":3},{"$f":"Januar!$F$18","v":"07:30:00"},null,{"$f":"$F$18*H17","v":0.625},1.25,1.25,1.25,1.5625]
[null,{"$f":"April!$B$19","v":"Overtid:"},{"$nulls":5},{"$f":"SUM(N31:N35)","v":0},{"$f":"SUM(N36:N42)","v":0},{"$f":"SUM(N43:N49)","v":0},{"$f":"SUM(N50:N56)","v":0},{"$f":"SUM(N57:N61)","v":0},{"$f":"SUM(G19:L19)","v":0}]
[]
["MERKNADER TIL PERIODEN:  "]
[]
[]
[]
[]
[]
[]
[null,null,"Normal Arbeidstid",null,null,"Ekstra arbeidstid",null,null,"Fravær i arbeidstiden",null,null,{"$f":"April!$L$28","v":"Overtid "},null,null,"Merknad"]
["Dato","Dag","Inn","Ut","Sum","Inn","Ut","Sum","Ut","Inn","Sum","Inn","Ut","Sum"]
[]
[{"$f":"April!$A$60+1","v":"2013-05-01"},"Onsdag",null,null,{"$f":"SUM(D31-C31)","v":"00:00:00"},null,null,{"$f":"SUM(G31-F31)","v":"00:00:00"},null,null,{"$f":"SUM(J31-I31)","v":"00:00:00"},null,null,{"$f":"SUM(M31-L31)","v":"00:00:00"},"Off.H.dag"]
[{"$f":"A31+1","v":"2013-05-02"},"Torsdag",null,null,{"$f":"SUM(D32-C32)","v":"00:00:00"},null,null,{"$f":"SUM(G32-F32)","v":"00:00:00"},null,null,{"$f":"SUM(J32-I32)","v":"00:00:00"},null,null,{"$f":"SUM(M32-L32)","v":"00:00:00"},"Uke 18"]
[{"$f":"A32+1","v":"2013-05-03"},"Fredag",null,null,{"$f":"SUM(D33-C33)","v":"00:00:00"},null,null,{"$f":"SUM(G33-F33)","v":"00:00:00"},null,null,{"$f":"SUM(J33-I33)","v":"00:00:00"},null,null,{"$f":"SUM(M33-L33)","v":"00:00:00"}]
["2013-05-04","Lørdag",null,null,"00:00:00",null,null,"00:00:00",null,null,"00:00:00",null,null,"00:00:00"]
["2013-05-05","Søndag",null,null,"00:00:00",null,null,"00:00:00",null,null,"00:00:00",null,null,"00:00:00"]
["2013-05-06","Mandag",null,null,"00:00:00",null,null,"00:00:00",null,null,"00:00:00",null,null,"00:00:00","Uke 19"]
["2013-05-07","Tirsdag",null,null,"00:00:00",null,null,"00:00:00",null,null,"00:00:00",null,null,"00:00:00"]
["2013-05-08","Onsdag",null,null,"00:00:00",null,null,"00:00:00",null,null,"00:00:00",null,null,"00:00:00"]
["2013-05-09","Torsdag",null,null,"00:00:00",null,null,"00:00:00",null,null,"00:00:00",null,null,"00:00:00","Kr. H.dag"]
["2013-05-10","Fredag",null,null,"00:00:00",null,null,"00:00:00",null,null,"00:00:00",null,null,"00:00:00"]
["2013-05-11","Lørdag",null,null,"00:00:00",null,null,"00:00:00",null,null,"00:00:00",null,null,"00:00:00"]
["2013-05-12","Søndag",null,null,"00:00:00",null,null,"00:00:00",null,null,"00:00:00",null,null,"00:00:00"]
["2013-05-13","Mandag",null,null,"00:00:00",null,null,"00:00:00",null,null,"00:00:00",null,null,"00:00:00","Uke 20"]
["2013-05-14","Tirsdag",null,null,"00:00:00",null,null,"00:00:00",null,null,"00:00:00",null,null,"00:00:00"]
["2013-05-15","Onsdag",null,null,"00:00:00",null,null,"00:00:00",null,null,"00:00:00",null,null,"00:00:00"]
["2013-05-16","Torsdag",null,null,"00:00:00",null,null,"00:00:00",null,null,"00:00:00",null,null,"00:00:00"]
["2013-05-17","Fredag",null,null,"00:00:00",null,null,"00:00:00",null,null,"00:00:00",null,null,"00:00:00","Grunnlovsdag"]
["2013-05-18","Lørdag",null,null,"00:00:00",null,null,"00:00:00",null,null,{"$f":"SUM(J48-I48)","v":"00:00:00"},null,null,"00:00:00"]
["2013-05-19","Søndag",null,null,"00:00:00",null,null,"00:00:00",null,null,"00:00:00",null,null,"00:00:00","1. Pinsdag"]
["2013-05-20","Mandag",null,null,"00:00:00",null,null,"00:00:00",null,null,"00:00:00",null,null,"00:00:00","2. Pinsedag"]
["2013-05-21","Tirsdag",null,null,"00:00:00",null,null,"00:00:00",null,null,"00:00:00",null,null,"00:00:00","Uke 21"]
["2013-05-22","Onsdag",null,null,"00:00:00",null,null,"00:00:00",null,null,"00:00:00",null,null,"00:00:00"]
["2013-05-23","Torsdag",null,null,"00:00:00",null,null,"00:00:00",null,null,"00:00:00",null,null,"00:00:00"]
["2013-05-24","Fredag",null,null,"00:00:00",null,null,"00:00:00",null,null,"00:00:00",null,null,"00:00:00"]
["2013-05-25","Lørdag",null,null,"00:00:00",null,null,"00:00:00",null,null,"00:00:00",null,null,"00:00:00"]
["2013-05-26","Søndag",null,null,"00:00:00",null,null,"00:00:00",null,null,"00:00:00",null,null,"00:00:00"]
["2013-05-27","Mandag",null,null,"00:00:00",null,null,"00:00:00",null,null,"00:00:00",null,null,"00:00:00","Uke 22"]
["2013-05-28","Tirsdag",null,null,"00:00:00",null,null,"00:00:00",null,null,"00:00:00",null,null,"00:00:00"]
["2013-05-29","Onsdag",null,null,"00:00:00",null,null,"00:00:00",null,null,"00:00:00",null,null,"00:00:00"]
["2013-05-30","Torsdag",null,null,"00:00:00",null,null,"00:00:00",null,null,"00:00:00",null,null,"00:00:00"]
["2013-05-31","Fredag",null,null,"00:00:00",null,null,"00:00:00",null,null,{"$f":"SUM(J61-I61)","v":"00:00:00"},null,null,"00:00:00"]
[]
[]
["Signatur (arbeidstaker)",{"$nulls":7},"Godkjent (overordnet)"]
[]
[]
[]
[]
[]
["Dato","Signatur",{"$nulls":6},"Dato","Signatur"]

{"sheet":"Juni","index":6,"n_rows":69,"n_cols":15,"rows_kept":69,"merged":[[0,1,0,11],[0,12,0,13],[1,1,1,11],[1,12,1,13],[3,1,3,11],[3,12,3,13],[4,1,4,11],[4,12,4,13],[5,4,5,5],[5,6,5,11],[5,12,5,13],[7,12,7,13],[8,1,8,2],[8,4,8,5],[8,12,8,13],[9,1,9,5],[9,12,9,13],[10,1,10,5],[10,12,10,13],[11,1,11,5],[11,12,11,13],[12,1,12,5],[12,12,12,13],[13,1,13,5],[13,12,13,13],[14,1,14,5],[14,10,14,11],[14,12,14,13],[15,1,15,5],[15,12,15,13],[16,1,16,5],[16,12,16,13],[17,1,17,4],[17,12,17,13],[18,1,18,5],[18,12,18,13],[20,0,20,3],[21,0,25,14],[27,2,27,4],[27,5,27,7],[27,8,27,10],[27,11,27,13],[62,0,62,5],[62,8,62,13],[67,8,67,9],[68,1,68,6],[68,9,68,14]]}
[null,"Overføres til neste måned - arbeidstid + / - (etter evt utbetaling):",{"$nulls":10},{"$f":"SUM((M13+M15)-M16-M2)","v":-37.6875}]
[null,"Sum timer (EA) som utbetales denne måned (trekkes fra timer til gode):",{"$nulls":10},0]
[]
[null,{"$f":"Januar!$B$4","v":"Sum overtid i år (AML § 10-6) Overføres til neste måned:"},{"$nulls":10},{"$f":"SUM((Mai!M4)+M19)","v":0}]
[null,"Utbetalt OT denne måned:",{"$nulls":10},0]
[null,"OT fra forrige mnd:",null,null,{"$f":"SUM(Mai!M6)","v":0},null,"OT til gode (etter utbetaling) denne mnd:",{"$nulls":5},{"$f":"SUM(E6+M19-M5)","v":0}]
[]
[null,"Faktiske timer - Årsdifferanse",{"$nulls":4},"Uke","Uke","Uke","Uke","Uke","Uke","Sum for "]
[null,{"$f":"SUM((Mai!B9)+M13+M19)","v":0},null,null,{"$f":"SUM(B9-(Januar!O19))","v":-78.0625},null,21,{"$f":"G9+1","v":22},{"$f":"H9+1","v":23},{"$f":"I9+1","v":24},{"$f":"J9+1","v":25},{"$f":"K9+1","v":26},"måneden."]
[null,"Normal arbeidstid :",{"$nulls":5},{"$f":"SUM(E31:E32)","v":0},{"$f":"SUM(E33:E39)","v":0},{"$f":"SUM(E40:E46)","v":0},{"$f":"SUM(E47:E53)","v":0},{"$f":"SUM(E54:E60)","v":0},{"$f":"SUM(G10:L10)","v":0}]
[null,"Ekstra arbeidstid (Ikke OT) :",{"$nulls":5},{"$f":"SUM(H31:H32)","v":0},{"$f":"SUM(H33:H39)","v":0},{"$f":"SUM(H40:H46)","v":0},{"$f":"SUM(H47:H53)","v":0},{"$f":"SUM(H54:H60)","v":0},{"$f":"SUM(G11:L11)","v":0}]
[null,{"$f":"Januar!$B$12","v":"Fravær i arbeidstiden:"},{"$nulls":5},{"$f":"SUM(K31:K32)","v":0},{"$f":"SUM(K33:K39)","v":0},{"$f":"SUM(K40:K46)","v":0},{"$f":"SUM(K47:K53)","v":0},{"$f":"SUM(K54:K60)","v":0},{"$f":"SUM(G12:L12)","v":0}]
[null,"Sum",{"$nulls":5},{"$f":"SUM(H10+H11-H12)","v":0},{"$f":"SUM(I10+I11-I12)","v":0},{"$f":"SUM(J10+J11-J12)","v":0},{"$f":"SUM(K10+K11-K12)","v":0},{"$f":"SUM(L10+L11-L12)","v":0},{"$f":"SUM(G13:L13)","v":0},{"$f":"SUM(N10+N11-N12-N16)","v":0}]
[null,"+ / - arbeidstid pr. uke :",{"$nulls":5},{"$f":"SUM(H13-H16)","v":0},{"$f":"SUM(I13-I16)","v":-1.5625},{"$f":"SUM(J13-J16)","v":-1.5625},{"$f":"SUM(K13-K16)","v":-1.5625},{"$f":"SUM(L13-L16)","v":-1.5625},{"$f":"SUM(G14:L14)","v":-6.25}]
[null,"Overført fra forrige måned:",{"$nulls":10},{"$f":"Mai!$M$1","v":-31.4375}]
[null,{"$f":"Januar!$B$16","v":"Normal arbeidstid pr uke :"},{"$nulls":5},{"$f":"H18","v":0},{"$f":"I18","v":1.5625},1.5625,1.5625,1.5625,{"$f":"SUM(G16:L16)","v":6.25}]
[null,{"$f":"Januar!$B$17","v":"Antall dager med normal arbeidstid"},{"$nulls":5},0,5,5,5,5,{"$f":"SUM(G17:L17)","v":20}]
[null,{"$f":"Januar!$B$18","v":"Normal arbeidstid pr dag er timer:"},{"$nulls":3},{"$f":"Januar!$F$18","v":"07:30:00"},null,{"$f":"$F$18*H17","v":0},1.5625,1.5625,1.5625,1.5625]
[null,{"$f":"Mai!$B$19","v":"Overtid:"},{"$nulls":5},{"$f":"SUM(N31:N32)","v":0},{"$f":"SUM(N33:N39)","v":0},{"$f":"SUM(N40:N46)","v":0},{"$f":"SUM(N47:N53)","v":0},{"$f":"SUM(N54:N60)","v":0},{"$f":"SUM(G19:L19)","v":0}]
[]
["MERKNADER TIL PERIODEN:  "]
[]
[]
[]
[]
[]
[]
[null,null,"Normal Arbeidstid",null,null,"Ekstra arbeidstid",null,null,"Fravær i arbeidstiden",null,null,{"$f":"Mai!$L$28","v":"Overtid "},null,null,"Merknad"]
["Dato","Dag","Inn","Ut","Sum","Inn","Ut","Sum","Ut","Inn","Sum","Inn","Ut","Sum"]
[]
[{"$f":"Mai!$A$61+1","v":"2013-06-01"},"Lørdag",null,null,{"$f":"SUM(D31-C31)","v":"00:00:00"},null,null,{"$f":"SUM(G31-F31)","v":"00:00:00"},null,null,{"$f":"SUM(J31-I31)","v":"00:00:00"},null,null,{"$f":"SUM(M31-L31)","v":"00:00:00"},"Uke 22"]
[{"$f":"A31+1","v":"2013-06-02"},"Søndag",null,null,{"$f":"SUM(D32-C32)","v":"00:00:00"},null,null,{"$f":"SUM(G32-F32)","v":"00:00:00"},null,null,{"$f":"SUM(J32-I32)","v":"00:00:00"},null,null,{"$f":"SUM(M32-L32)","v":"00:00:00"}]
[{"$f":"A32+1","v":"2013-06-03"},"Mandag",null,null,"00:00:00",null,null,"00:00:00",null,null,"00:00:00",null,null,"00:00:00","Uke 23"]
["2013-06-04","Tirsdag",null,null,"00:00:00",null,null,"00:00:00",null,null,"00:00:00",null,null,"00:00:00"]
["2013-06-05","Onsdag",null,null,"00:00:00",null,null,"00:00:00",null,null,"00:00:00",null,null,"00:00:00"]
["2013-06-06","Torsdag",null,null,"00:00:00",null,null,"00:00:00",null,null,"00:00:00",null,null,"00:00:00"]
["2013-06-07","Fredag",null,null,"00:00:00",null,null,"00:00:00",null,null,"00:00:00",null,null,"00:00:00"]
["2013-06-08","Lørdag",null,null,"00:00:00",null,null,"00:00:00",null,null,"00:00:00",null,null,"00:00:00"]
["2013-06-09","Søndag",null,null,"00:00:00",null,null,"00:00:00",null,null,"00:00:00",null,null,"00:00:00"]
["2013-06-10","Mandag",null,null,"00:00:00",null,null,"00:00:00",null,null,"00:00:00",null,null,"00:00:00","Uke 24"]
["2013-06-11","Tirsdag",null,null,{"$f":"SUM(D41-C41)","v":"00:00:00"},null,null,{"$f":"SUM(G41-F41)","v":"00:00:00"},null,null,{"$f":"SUM(J41-I41)","v":"00:00:00"},null,null,{"$f":"SUM(M41-L41)","v":"00:00:00"}]
["2013-06-12","Onsdag",null,null,{"$f":"SUM(D42-C42)","v":"00:00:00"},null,null,{"$f":"SUM(G42-F42)","v":"00:00:00"},null,null,{"$f":"SUM(J42-I42)","v":"00:00:00"},null,null,{"$f":"SUM(M42-L42)","v":"00:00:00"}]
["2013-06-13","Torsdag",null,null,"00:00:00",null,null,"00:00:00",null,null,"00:00:00",null,null,"00:00:00"]
["2013-06-14","Fredag",null,null,"00:00:00",null,null,"00:00:00",null,null,"00:00:00",null,null,"00:00:00"]
["2013-06-15","Lørdag",null,null,"00:00:00",null,null,"00:00:00",null,null,"00:00:00",null,null,"00:00:00"]
["2013-06-16","Søndag",null,null,"00:00:00",null,null,"00:00:00",null,null,"00:00:00",null,null,"00:00:00"]
["2013-06-17","Mandag",null,null,"00:00:00",null,null,"00:00:00",null,null,"00:00:00",null,null,"00:00:00","Uke 25"]
["2013-06-18","Tirsdag",null,null,{"$f":"SUM(D48-C48)","v":"00:00:00"},null,null,{"$f":"SUM(G48-F48)","v":"00:00:00"},null,null,{"$f":"SUM(J48-I48)","v":"00:00:00"},null,null,{"$f":"SUM(M48-L48)","v":"00:00:00"}]
["2013-06-19","Onsdag",null,null,{"$f":"SUM(D49-C49)","v":"00:00:00"},null,null,{"$f":"SUM(G49-F49)","v":"00:00:00"},null,null,{"$f":"SUM(J49-I49)","v":"00:00:00"},null,null,{"$f":"SUM(M49-L49)","v":"00:00:00"}]
["2013-06-20","Torsdag",null,null,"00:00:00",null,null,"00:00:00",null,null,{"$f":"SUM(J50-I50)","v":"00:00:00"},null,null,"00:00:00"]
["2013-06-21","Fredag",null,null,"00:00:00",null,null,"00:00:00",null,null,"00:00:00",null,null,"00:00:00"]
["2013-06-22","Lørdag",null,null,"00:00:00",null,null,"00:00:00",null,null,"00:00:00",null,null,"00:00:00"]
["2013-06-23","Søndag",null,null,"00:00:00",null,null,"00:00:00",null,null,"00:00:00",null,null,"00:00:00"]
["2013-06-24","Mandag",null,null,"00:00:00",null,null,"00:00:00",null,null,"00:00:00",null,null,"00:00:00","Uke 26"]
["2013-06-25","Tirsdag",null,null,{"$f":"SUM(D55-C55)","v":"00:00:00"},null,null,{"$f":"SUM(G55-F55)","v":"00:00:00"},null,null,"00:00:00",null,null,{"$f":"SUM(M55-L55)","v":"00:00:00"}]
["2013-06-26","Onsdag",null,null,{"$f":"SUM(D56-C56)","v":"00:00:00"},null,null,{"$f":"SUM(G56-F56)","v":"00:00:00"},null,null,"00:00:00",null,null,{"$f":"SUM(M56-L56)","v":"00:00:00"}]
["2013-06-27","Torsdag",null,null,"00:00:00",null,null,"00:00:00",null,null,"00:00:00",null,null,"00:00:00"]
["2013-06-28","Fredag",null,null,"00:00:00",null,null,"00:00:00",null,null,"00:00:00",null,null,"00:00:00"]
["2013-06-29","Lørdag",null,null,"00:00:00",null,null,"00:00:00",null,null,"00:00:00",null,null,"00:00:00"]
["2013-06-30","Søndag",null,null,"00:00:00",null,null,"00:00:00",null,null,"00:00:00",null,null,"00:00:00"]
[]
[]
["Signatur (arbeidstaker)",{"$nulls":7},"Godkjent (overordnet)"]
[]
[]
[]
[]
[]
["Dato","Signatur",{"$nulls":6},"Dato","Signatur"]

{"sheet":"Juli","index":7,"n_rows":70,"n_cols":15,"rows_kept":70,"merged":[[0,1,0,11],[0,12,0,13],[1,1,1,11],[1,12,1,13],[3,1,3,11],[3,12,3,13],[4,1,4,11],[4,12,4,13],[5,4,5,5],[5,6,5,11],[5,12,5,13],[7,12,7,13],[8,1,8,2],[8,4,8,5],[8,12,8,13],[9,1,9,5],[9,12,9,13],[10,1,10,5],[10,12,10,13],[11,1,11,5],[11,12,11,13],[12,1,12,5],[12,12,12,13],[13,1,13,5],[13,12,13,13],[14,1,14,5],[14,10,14,11],[14,12,14,13],[15,1,15,5],[15,12,15,13],[16,1,16,5],[16,12,16,13],[17,1,17,4],[17,12,17,13],[18,1,18,5],[18,12,18,13],[20,0,20,4],[21,0,25,14],[27,2,27,4],[27,5,27,7],[27,8,27,10],[27,11,27,13],[63,0,63,5],[63,8,63,13],[68,8,68,9],[69,1,69,6],[69,9,69,14]]}
[null,"Overføres til neste måned - arbeidstid + / - (etter evt utbetaling):",{"$nulls":10},{"$f":"SUM((M13+M15)-M16-M2)","v":-44.875}]
[null,"Sum timer (EA) som utbetales denne måned (trekkes fra timer til gode):",{"$nulls":10},0]
[]
[null,{"$f":"Januar!$B$4","v":"Sum overtid i år (AML § 10-6) Overføres til neste måned:"},{"$nulls":10},{"$f":"SUM((Juni!M4)+M19)","v":0}]
[null,"Utbetalt OT denne måned:",{"$nulls":10},0]
[null,"OT fra forrige mnd:",null,null,{"$f":"SUM(Juni!M6)","v":0},null,"OT til gode (etter utbetaling) denne mnd:",{"$nulls":5},{"$f":"SUM(E6+M19-M5)","v":0}]
[]
[null,"Faktiske timer - Årsdifferanse",{"$nulls":4},"Uke","Uke","Uke","Uke","Uke","Uke","Sum for "]
[null,{"$f":"SUM((Juni!B9)+M13+M19)","v":0},null,null,{"$f":"SUM(B9-(Januar!O19))","v":-78.0625},null,26,{"$f":"G9+1","v":27},{"$f":"H9+1","v":28},{"$f":"I9+1","v":29},{"$f":"J9+1","v":30},{"$f":"K9+1","v":31},"måneden."]
[null,"Normal arbeidstid :",{"$nulls":5},{"$f":"SUM(E31:E37)","v":0},{"$f":"SUM(E38:E44)","v":0},{"$f":"SUM(E45:E51)","v":0},{"$f":"SUM(E52:E58)","v":0},{"$f":"SUM(E59:E61)","v":0},{"$f":"SUM(G10:L10)","v":0}]
[null,"Ekstra arbeidstid (Ikke OT) :",{"$nulls":5},{"$f":"SUM(H31:H37)","v":0},{"$f":"SUM(H38:H44)","v":0},{"$f":"SUM(H45:H51)","v":0},{"$f":"SUM(H52:H58)","v":0},{"$f":"SUM(H59:H61)","v":0},{"$f":"SUM(G11:L11)","v":0}]
[null,{"$f":"Januar!$B$12","v":"Fravær i arbeidstiden:"},{"$nulls":5},{"$f":"SUM(K31:K37)","v":0},{"$f":"SUM(K38:K44)","v":0},{"$f":"SUM(K45:K51)","v":0},{"$f":"SUM(K52:K58)","v":0},{"$f":"SUM(K59:K61)","v":0},{"$f":"SUM(G12:L12)","v":0}]
[null,"Sum",{"$nulls":5},{"$f":"SUM(H10+H11-H12)","v":0},0,0,0,{"$f":"SUM(L10+L11-L12)","v":0},{"$f":"SUM(G13:L13)","v":0},{"$f":"SUM(N10+N11-N12-N16)","v":0}]
[null,"+ / - arbeidstid pr. uke :",{"$nulls":5},{"$f":"SUM(H13-H16)","v":-1.5625},-1.5625,-1.5625,-1.5625,-0.9375,{"$f":"SUM(G14:L14)","v":-7.1875}]
[null,"Overført fra forrige måned:",{"$nulls":10},{"$f":"Juni!$M$1","v":-37.6875}]
[null,"Normal arbeidstid pr uke",{"$nulls":5},{"$f":"H18","v":1.5625},{"$f":"I18","v":1.5625},1.5625,1.5625,0.9375,{"$f":"SUM(G16:L16)","v":7.1875}]
[null,{"$f":"Januar!$B$17","v":"Antall dager med normal arbeidstid"},{"$nulls":5},5,5,5,5,3,{"$f":"SUM(G17:L17)","v":23}]
[null,{"$f":"Januar!$B$18","v":"Normal arbeidstid pr dag er timer:"},{"$nulls":3},{"$f":"Januar!$F$18","v":"07:30:00"},null,{"$f":"$F$18*H17","v":1.5625},1.5625,1.5625,1.5625,0.9375]
[null,{"$f":"Juni!$B$19","v":"Overtid:"},{"$nulls":5},{"$f":"SUM(N31:N37)","v":0},{"$f":"SUM(N38:N44)","v":0},{"$f":"SUM(N45:N51)","v":0},{"$f":"SUM(N52:N58)","v":0},{"$f":"SUM(N59:N61)","v":0},{"$f":"SUM(G19:L19)","v":0}]
[]
["MERKNADER TIL PERIODEN:  "]
[]
[]
[]
[]
[]
[]
[null,null,"Normal Arbeidstid",null,null,"Ekstra arbeidstid",null,null,"Fravær i arbeidstiden",null,null,{"$f":"Juni!$L$28","v":"Overtid "},null,null,"Merknad"]
["Dato","Dag","Inn","Ut","Sum","Inn","Ut","Sum","Ut","Inn","Sum","Inn","Ut","Sum"]
[]
[{"$f":"Juni!$A$60+1","v":"2013-07-01"},"Mandag",null,null,{"$f":"SUM(D31-C31)","v":"00:00:00"},null,null,{"$f":"SUM(G31-F31)","v":"00:00:00"},null,null,{"$f":"SUM(J31-I31)","v":"00:00:00"},null,null,{"$f":"SUM(M31-L31)","v":"00:00:00"},"Uke 27"]
[{"$f":"A31+1","v":"2013-07-02"},"Tirsdag",null,null,{"$f":"SUM(D32-C32)","v":"00:00:00"},null,null,{"$f":"SUM(G32-F32)","v":"00:00:00"},null,null,{"$f":"SUM(J32-I32)","v":"00:00:00"},null,null,{"$f":"SUM(M32-L32)","v":"00:00:00"}]
[{"$f":"A32+1","v":"2013-07-03"},"Onsdag",null,null,{"$f":"SUM(D33-C33)","v":"00:00:00"},null,null,{"$f":"SUM(G33-F33)","v":"00:00:00"},null,null,{"$f":"SUM(J33-I33)","v":"00:00:00"},null,null,{"$f":"SUM(M33-L33)","v":"00:00:00"}]
["2013-07-04","Torsdag",null,null,{"$f":"SUM(D34-C34)","v":"00:00:00"},null,null,{"$f":"SUM(G34-F34)","v":"00:00:00"},null,null,{"$f":"SUM(J34-I34)","v":"00:00:00"},null,null,{"$f":"SUM(M34-L34)","v":"00:00:00"}]
["2013-07-05","Fredag",null,null,"00:00:00",null,null,"00:00:00",null,null,"00:00:00",null,null,"00:00:00"]
["2013-07-06","Lørdag",null,null,"00:00:00",null,null,"00:00:00",null,null,"00:00:00",null,null,"00:00:00"]
["2013-07-07","Søndag",null,null,"00:00:00",null,null,"00:00:00",null,null,"00:00:00",null,null,"00:00:00"]
["2013-07-08","Mandag",null,null,"00:00:00",null,null,"00:00:00",null,null,"00:00:00",null,null,"00:00:00","Uke 28"]
["2013-07-09","Tirsdag",null,null,"00:00:00",null,null,"00:00:00",null,null,"00:00:00",null,null,"00:00:00"]
["2013-07-10","Onsdag",null,null,"00:00:00",null,null,"00:00:00",null,null,"00:00:00",null,null,"00:00:00"]
["2013-07-11","Torsdag",null,null,"00:00:00",null,null,"00:00:00",null,null,"00:00:00",null,null,"00:00:00"]
["2013-07-12","Fredag",null,null,"00:00:00",null,null,"00:00:00",null,null,"00:00:00",null,null,"00:00:00"]
["2013-07-13","Lørdag",null,null,"00:00:00",null,null,"00:00:00",null,null,"00:00:00",null,null,"00:00:00"]
["2013-07-14","Søndag",null,null,"00:00:00",null,null,"00:00:00",null,null,"00:00:00",null,null,"00:00:00"]
["2013-07-15","Mandag",null,null,"00:00:00",null,null,"00:00:00",null,null,"00:00:00",null,null,"00:00:00","Uke 29"]
["2013-07-16","Tirsdag",null,null,"00:00:00",null,null,"00:00:00",null,null,"00:00:00",null,null,"00:00:00"]
["2013-07-17","Onsdag",null,null,"00:00:00",null,null,"00:00:00",null,null,"00:00:00",null,null,"00:00:00"]
["2013-07-18","Torsdag",null,null,"00:00:00",null,null,"00:00:00",null,null,"00:00:00",null,null,"00:00:00"]
["2013-07-19","Fredag",null,null,"00:00:00",null,null,"00:00:00",null,null,{"$f":"SUM(J49-I49)","v":"00:00:00"},null,null,"00:00:00"]
["2013-07-20","Lørdag",null,null,"00:00:00",null,null,"00:00:00",null,null,"00:00:00",null,null,"00:00:00"]
["2013-07-21","Søndag",null,null,"00:00:00",null,null,"00:00:00",null,null,"00:00:00",null,null,"00:00:00"]
["2013-07-22","Mandag",null,null,"00:00:00",null,null,"00:00:00",null,null,"00:00:00",null,null,"00:00:00","Uke 30"]
["2013-07-23","Tirsdag",null,null,"00:00:00",null,null,"00:00:00",null,null,"00:00:00",null,null,"00:00:00"]
["2013-07-24","Onsdag",null,null,"00:00:00",null,null,"00:00:00",null,null,"00:00:00",null,null,"00:00:00"]
["2013-07-25","Torsdag",null,null,"00:00:00",null,null,"00:00:00",null,null,"00:00:00",null,null,"00:00:00"]
["2013-07-26","Fredag",null,null,"00:00:00",null,null,"00:00:00",null,null,"00:00:00",null,null,"00:00:00"]
["2013-07-27","Lørdag",null,null,"00:00:00",null,null,"00:00:00",null,null,"00:00:00",null,null,"00:00:00"]
["2013-07-28","Søndag",null,null,"00:00:00",null,null,"00:00:00",null,null,"00:00:00",null,null,"00:00:00"]
["2013-07-29","Mandag",null,null,"00:00:00",null,null,"00:00:00",null,null,"00:00:00",null,null,"00:00:00","Uke 31"]
["2013-07-30","Tirsdag",null,null,"00:00:00",null,null,"00:00:00",null,null,"00:00:00",null,null,"00:00:00"]
["2013-07-31","Onsdag",null,null,"00:00:00",null,null,"00:00:00",null,null,"00:00:00",null,null,"00:00:00"]
[]
[]
["Signatur (arbeidstaker)",{"$nulls":7},"Godkjent (overordnet)"]
[]
[]
[]
[]
[]
["Dato","Signatur",{"$nulls":6},"Dato","Signatur"]

{"sheet":"August","index":8,"n_rows":70,"n_cols":15,"rows_kept":70,"merged":[[0,1,0,11],[0,12,0,13],[1,1,1,11],[1,12,1,13],[3,1,3,11],[3,12,3,13],[4,1,4,11],[4,12,4,13],[5,4,5,5],[5,6,5,11],[5,12,5,13],[7,12,7,13],[8,1,8,2],[8,4,8,5],[8,12,8,13],[9,1,9,5],[9,12,9,13],[10,1,10,5],[10,12,10,13],[11,1,11,5],[11,12,11,13],[12,1,12,5],[12,12,12,13],[13,1,13,5],[13,12,13,13],[14,1,14,5],[14,10,14,11],[14,12,14,13],[15,1,15,5],[15,12,15,13],[16,1,16,5],[16,12,16,13],[17,1,17,4],[17,12,17,13],[18,1,18,5],[18,12,18,13],[20,0,20,3],[21,0,25,14],[27,2,27,4],[27,5,27,7],[27,8,27,10],[27,11,27,13],[63,0,63,5],[63,8,63,13],[68,8,68,9],[69,1,69,6],[69,9,69,14]]}
[null,"Overføres til neste måned - arbeidstid + / - (etter evt utbetaling):",{"$nulls":10},{"$f":"SUM((M13+M15)-M16-M2)","v":-51.75}]
[null,"Sum timer (EA) som utbetales denne måned (trekkes fra timer til gode):",{"$nulls":10},0]
[]
[null,{"$f":"Januar!$B$4","v":"Sum overtid i år (AML § 10-6) Overføres til neste måned:"},{"$nulls":10},{"$f":"SUM((Juli!M4)+M19)","v":0}]
[null,"Utbetalt OT denne måned:",{"$nulls":10},0]
[null,"OT fra forrige mnd:",null,null,{"$f":"SUM(Juli!M6)","v":0},null,"OT til gode (etter utbetaling) denne mnd:",{"$nulls":5},{"$f":"SUM(E6+M19-M5)","v":0}]
[]
[null,"Faktiske timer - Årsdifferanse",{"$nulls":4},"Uke","Uke","Uke","Uke","Uke","Uke","Sum for "]
[null,{"$f":"SUM((Juli!B9)+M13+M19)","v":0},null,null,{"$f":"SUM(B9-(Januar!O19))","v":-78.0625},null,30,{"$f":"G9+1","v":31},{"$f":"H9+1","v":32},{"$f":"I9+1","v":33},{"$f":"J9+1","v":34},{"$f":"K9+1","v":35},"måneden."]
[null,"Normal arbeidstid :",{"$nulls":5},{"$f":"SUM(E31:E34)","v":0},{"$f":"SUM(E35:E41)","v":0},{"$f":"SUM(E42:E48)","v":0},{"$f":"SUM(E49:E55)","v":0},{"$f":"SUM(E56:E61)","v":0},{"$f":"SUM(G10:L10)","v":0}]
[null,"Ekstra arbeidstid (Ikke OT) :",{"$nulls":5},{"$f":"SUM(H31:H34)","v":0},{"$f":"SUM(H35:H41)","v":0},{"$f":"SUM(H42:H48)","v":0},{"$f":"SUM(H49:H55)","v":0},{"$f":"SUM(H56:H61)","v":0},{"$f":"SUM(G11:L11)","v":0}]
[null,{"$f":"Januar!$B$12","v":"Fravær i arbeidstiden:"},{"$nulls":5},{"$f":"SUM(K31:K34)","v":0},{"$f":"SUM(K35:K41)","v":0},{"$f":"SUM(K42:K48)","v":0},{"$f":"SUM(K49:K55)","v":0},{"$f":"SUM(K56:K61)","v":0},{"$f":"SUM(G12:L12)","v":0}]
[null,"Sum",{"$nulls":5},{"$f":"SUM(H10+H11-H12)","v":0},{"$f":"SUM(I10+I11-I12)","v":0},{"$f":"SUM(J10+J11-J12)","v":0},{"$f":"SUM(K10+K11-K12)","v":0},{"$f":"SUM(L10+L11-L12)","v":0},{"$f":"SUM(G13:L13)","v":0},{"$f":"SUM(N10+N11-N12-N16)","v":0}]
[null,"+ / - arbeidstid pr. uke :",{"$nulls":5},{"$f":"SUM(H13-H16)","v":-0.625},{"$f":"SUM(I13-I16)","v":-1.5625},{"$f":"SUM(J13-J16)","v":-1.5625},{"$f":"SUM(K13-K16)","v":-1.5625},{"$f":"SUM(L13-L16)","v":-1.5625},{"$f":"SUM(G14:L14)","v":-6.875}]
[null,"Overført fra forrige måned:",{"$nulls":10},{"$f":"Juli!$M$1","v":-44.875}]
[null,"Normal arbeidstid pr uke",{"$nulls":5},{"$f":"H18","v":0.625},{"$f":"I18","v":1.5625},1.5625,1.5625,1.5625,{"$f":"SUM(G16:L16)","v":6.875}]
[null,{"$f":"Januar!$B$17","v":"Antall dager med normal arbeidstid"},{"$nulls":5},2,5,5,5,5,{"$f":"SUM(G17:L17)","v":22}]
[null,{"$f":"Januar!$B$18","v":"Normal arbeidstid pr dag er timer:"},{"$nulls":3},{"$f":"Januar!$F$18","v":"07:30:00"},null,{"$f":"$F$18*H17","v":0.625},1.5625,1.5625,1.5625,1.5625]
[null,{"$f":"Juli!$B$19","v":"Overtid:"},{"$nulls":5},{"$f":"SUM(N31:N34)","v":0},{"$f":"SUM(N35:N41)","v":0},{"$f":"SUM(N42:N48)","v":0},{"$f":"SUM(N49:N55)","v":0},{"$f":"SUM(N56:N61)","v":0},{"$f":"SUM(G19:L19)","v":0}]
[]
["MERKNADER TIL PERIODEN:  "]
[]
[]
[]
[]
[]
[]
[null,null,"Normal Arbeidstid",null,null,"Ekstra arbeidstid",null,null,"Fravær i arbeidstiden",null,null,{"$f":"Juli!$L$28","v":"Overtid "},null,null,"Merknad"]
["Dato","Dag","Inn","Ut","Sum","Inn","Ut","Sum","Ut","Inn","Sum","Inn","Ut","Sum"]
[]
[{"$f":"Juli!$A$61+1","v":"2013-08-01"},"Torsdag",null,null,{"$f":"SUM(D31-C31)","v":"00:00:00"},null,null,{"$f":"SUM(G31-F31)","v":"00:00:00"},null,null,{"$f":"SUM(J31-I31)","v":"00:00:00"},null,null,{"$f":"SUM(M31-L31)","v":"00:00:00"},"Uke 31"]
[{"$f":"A31+1","v":"2013-08-02"},"Fredag",null,null,{"$f":"SUM(D32-C32)","v":"00:00:00"},null,null,{"$f":"SUM(G32-F32)","v":"00:00:00"},null,null,{"$f":"SUM(J32-I32)","v":"00:00:00"},null,null,{"$f":"SUM(M32-L32)","v":"00:00:00"}]
[{"$f":"A32+1","v":"2013-08-03"},"Lørdag",null,null,"00:00:00",null,null,"00:00:00",null,null,"00:00:00",null,null,"00:00:00"]
["2013-08-04","Søndag",null,null,"00:00:00",null,null,"00:00:00",null,null,"00:00:00",null,null,"00:00:00"]
["2013-08-05","Mandag",null,null,"00:00:00",null,null,"00:00:00",null,null,"00:00:00",null,null,"00:00:00","Uke 32"]
["2013-08-06","Tirsdag",null,null,"00:00:00",null,null,"00:00:00",null,null,"00:00:00",null,null,"00:00:00"]
["2013-08-07","Onsdag",null,null,{"$f":"SUM(D37-C37)","v":"00:00:00"},null,null,{"$f":"SUM(G37-F37)","v":"00:00:00"},null,null,{"$f":"SUM(J37-I37)","v":"00:00:00"},null,null,{"$f":"SUM(M37-L37)","v":"00:00:00"}]
["2013-08-08","Torsdag",null,null,"00:00:00",null,null,"00:00:00",null,null,"00:00:00",null,null,"00:00:00"]
["2013-08-09","Fredag",null,null,"00:00:00",null,null,"00:00:00",null,null,"00:00:00",null,null,"00:00:00"]
["2013-08-10","Lørdag",null,null,"00:00:00",null,null,"00:00:00",null,null,"00:00:00",null,null,"00:00:00"]
["2013-08-11","Søndag",null,null,"00:00:00",null,null,"00:00:00",null,null,"00:00:00",null,null,"00:00:00"]
["2013-08-12","Mandag",null,null,"00:00:00",null,null,"00:00:00",null,null,"00:00:00",null,null,"00:00:00","Uke 33"]
["2013-08-13","Tirsdag",null,null,{"$f":"SUM(D43-C43)","v":"00:00:00"},null,null,{"$f":"SUM(G43-F43)","v":"00:00:00"},null,null,{"$f":"SUM(J43-I43)","v":"00:00:00"},null,null,{"$f":"SUM(M43-L43)","v":"00:00:00"}]
["2013-08-14","Onsdag",null,null,{"$f":"SUM(D44-C44)","v":"00:00:00"},null,null,{"$f":"SUM(G44-F44)","v":"00:00:00"},null,null,{"$f":"SUM(J44-I44)","v":"00:00:00"},null,null,{"$f":"SUM(M44-L44)","v":"00:00:00"}]
["2013-08-15","Torsdag",null,null,"00:00:00",null,null,"00:00:00",null,null,"00:00:00",null,null,"00:00:00"]
["2013-08-16","Fredag",null,null,"00:00:00",null,null,"00:00:00",null,null,"00:00:00",null,null,"00:00:00"]
["2013-08-17","Lørdag",null,null,"00:00:00",null,null,"00:00:00",null,null,"00:00:00",null,null,"00:00:00"]
["2013-08-18","Søndag",null,null,"00:00:00",null,null,"00:00:00",null,null,"00:00:00",null,null,"00:00:00"]
["2013-08-19","Mandag",null,null,"00:00:00",null,null,"00:00:00",null,null,{"$f":"SUM(J49-I49)","v":"00:00:00"},null,null,"00:00:00","Uke 34"]
["2013-08-20","Tirsdag",null,null,{"$f":"SUM(D50-C50)","v":"00:00:00"},null,null,{"$f":"SUM(G50-F50)","v":"00:00:00"},null,null,"00:00:00",null,null,{"$f":"SUM(M50-L50)","v":"00:00:00"}]
["2013-08-21","Onsdag",null,null,{"$f":"SUM(D51-C51)","v":"00:00:00"},null,null,{"$f":"SUM(G51-F51)","v":"00:00:00"},null,null,"00:00:00",null,null,{"$f":"SUM(M51-L51)","v":"00:00:00"}]
["2013-08-22","Torsdag",null,null,"00:00:00",null,null,"00:00:00",null,null,"00:00:00",null,null,"00:00:00"]
["2013-08-23","Fredag",null,null,"00:00:00",null,null,"00:00:00",null,null,"00:00:00",null,null,"00:00:00"]
["2013-08-24","Lørdag",null,null,"00:00:00",null,null,"00:00:00",null,null,"00:00:00",null,null,"00:00:00"]
["2013-08-25","Søndag",null,null,"00:00:00",null,null,"00:00:00",null,null,"00:00:00",null,null,"00:00:00"]
["2013-08-26","Mandag",null,null,"00:00:00",null,null,"00:00:00",null,null,"00:00:00",null,null,"00:00:00","Uke 35"]
["2013-08-27","Tirsdag",null,null,{"$f":"SUM(D57-C57)","v":"00:00:00"},null,null,{"$f":"SUM(G57-F57)","v":"00:00:00"},null,null,"00:00:00",null,null,{"$f":"SUM(M57-L57)","v":"00:00:00"}]
["2013-08-28","Onsdag",null,null,{"$f":"SUM(D58-C58)","v":"00:00:00"},null,null,{"$f":"SUM(G58-F58)","v":"00:00:00"},null,null,"00:00:00",null,null,{"$f":"SUM(M58-L58)","v":"00:00:00"}]
["2013-08-29","Torsdag",null,null,"00:00:00",null,null,"00:00:00",null,null,"00:00:00",null,null,"00:00:00"]
["2013-08-30","Fredag",null,null,"00:00:00",null,null,"00:00:00",null,null,"00:00:00",null,null,"00:00:00"]
["2013-08-31","Lørdag",null,null,"00:00:00",null,null,"00:00:00",null,null,"00:00:00",null,null,"00:00:00"]
[]
[]
["Signatur (arbeidstaker)",{"$nulls":7},"Godkjent (overordnet)"]
[]
[]
[]
[]
[]
["Dato","Signatur",{"$nulls":6},"Dato","Signatur"]

{"sheet":"September","index":9,"n_rows":69,"n_cols":15,"rows_kept":69,"merged":[[0,1,0,11],[0,12,0,13],[1,1,1,11],[1,12,1,13],[3,1,3,11],[3,12,3,13],[4,1,4,11],[4,12,4,13],[5,4,5,5],[5,6,5,11],[5,12,5,13],[7,12,7,13],[8,1,8,2],[8,4,8,5],[8,12,8,13],[9,1,9,5],[9,12,9,13],[10,1,10,5],[10,12,10,13],[11,1,11,5],[11,12,11,13],[12,1,12,5],[12,12,12,13],[13,1,13,5],[13,12,13,13],[14,1,14,5],[14,10,14,11],[14,12,14,13],[15,1,15,5],[15,12,15,13],[16,1,16,5],[16,12,16,13],[17,1,17,4],[17,12,17,13],[18,1,18,5],[18,12,18,13],[20,0,20,3],[21,0,25,14],[27,2,27,4],[27,5,27,7],[27,8,27,10],[27,11,27,13],[62,0,62,5],[62,8,62,13],[67,8,67,9],[68,1,68,6],[68,9,68,14]]}
[null,"Overføres til neste måned - arbeidstid + / - (etter evt utbetaling):",{"$nulls":10},{"$f":"SUM((M13+M15)-M16-M2)","v":-58.3125}]
[null,"Sum timer (EA) som utbetales denne måned (trekkes fra timer til gode):",{"$nulls":10},0]
[]
[null,{"$f":"Januar!$B$4","v":"Sum overtid i år (AML § 10-6) Overføres til neste måned:"},{"$nulls":10},{"$f":"SUM((August!M4)+M19)","v":0}]
[null,"Utbetalt OT denne måned:",{"$nulls":10},0]
[null,"OT fra forrige mnd:",null,null,{"$f":"SUM(August!M6)","v":0},null,"OT til gode (etter utbetaling) denne mnd:",{"$nulls":5},{"$f":"SUM(E6+M19-M5)","v":0}]
[]
[null,"Faktiske timer - Årsdifferanse",{"$nulls":4},"Uke","Uke","Uke","Uke","Uke","Uke","Sum for "]
[null,{"$f":"SUM((August!B9)+M13+M19)","v":0},null,null,{"$f":"SUM(B9-(Januar!O19))","v":-78.0625},null,35,{"$f":"G9+1","v":36},{"$f":"H9+1","v":37},{"$f":"I9+1","v":38},{"$f":"J9+1","v":39},{"$f":"K9+1","v":40},"måneden."]
[null,"Normal arbeidstid :",{"$nulls":4},{"$f":"SUM(E31)","v":0},{"$f":"SUM(E32:E38)","v":0},{"$f":"SUM(E39:E45)","v":0},{"$f":"SUM(E46:E52)","v":0},{"$f":"SUM(E53:E59)","v":0},{"$f":"SUM(E60)","v":0},{"$f":"SUM(G10:L10)","v":0}]
[null,"Ekstra arbeidstid (Ikke OT) :",{"$nulls":4},{"$f":"SUM(H31)","v":0},{"$f":"SUM(H32:H38)","v":0},{"$f":"SUM(H39:H45)","v":0},{"$f":"SUM(H46:H52)","v":0},{"$f":"SUM(H53:H59)","v":0},{"$f":"SUM(H60)","v":0},{"$f":"SUM(G11:L11)","v":0}]
[null,{"$f":"Januar!$B$12","v":"Fravær i arbeidstiden:"},{"$nulls":4},{"$f":"SUM(K31)","v":0},{"$f":"SUM(K32:K38)","v":0},{"$f":"SUM(K39:K45)","v":0},{"$f":"SUM(K46:K52)","v":0},{"$f":"SUM(K53:K59)","v":0},{"$f":"SUM(K60)","v":0},{"$f":"SUM(G12:L12)","v":0}]
[null,"Sum",{"$nulls":4},{"$f":"SUM(G10+G11-G12)","v":0},0,0,0,{"$f":"SUM(K10+K11-K12)","v":0},0,{"$f":"SUM(G13:L13)","v":0}]
[null,"+ / - arbeidstid pr. uke :",{"$nulls":4},{"$f":"SUM(G13-G16)","v":0},-1.5625,-1.5625,-1.5625,-1.5625,-0.3125,{"$f":"SUM(G14:L14)","v":-6.5625}]
[null,"Overført fra forrige måned:",{"$nulls":10},{"$f":"August!$M$1","v":-51.75}]
[null,"Normal arbeidstid pr uke",{"$nulls":4},{"$f":"G18","v":0},{"$f":"H18","v":1.5625},1.5625,1.5625,1.5625,0.3125,{"$f":"SUM(G16:L16)","v":6.5625}]
[null,{"$f":"Januar!$B$17","v":"Antall dager med normal arbeidstid"},{"$nulls":4},0,5,5,5,5,1,{"$f":"SUM(G17:L17)","v":21}]
[null,{"$f":"Januar!$B$18","v":"Normal arbeidstid pr dag er timer:"},{"$nulls":3},{"$f":"Januar!$F$18","v":"07:30:00"},{"$f":"$F$18*G17","v":0},1.5625,1.5625,1.5625,1.5625,0.3125]
[null,{"$f":"August!$B$19","v":"Overtid:"},{"$nulls":4},{"$f":"SUM(N31)","v":0},{"$f":"SUM(N32:N38)","v":0},{"$f":"SUM(N39:N45)","v":0},{"$f":"SUM(N46:N52)","v":0},{"$f":"SUM(N53:N59)","v":0},{"$f":"SUM(N60)","v":0},{"$f":"SUM(G19:L19)","v":0}]
[]
["MERKNADER TIL PERIODEN:  "]
[]
[]
[]
[]
[]
[]
[null,null,"Normal Arbeidstid",null,null,"Ekstra arbeidstid",null,null,"Fravær i arbeidstiden",null,null,{"$f":"August!$L$28","v":"Overtid "},null,null,"Merknad"]
["Dato","Dag","Inn","Ut","Sum","Inn","Ut","Sum","Ut","Inn","Sum","Inn","Ut","Sum"]
[]
[{"$f":"August!$A$61+1","v":"2013-09-01"},"Søndag",null,null,{"$f":"SUM(D31-C31)","v":"00:00:00"},null,null,{"$f":"SUM(G31-F31)","v":"00:00:00"},null,null,{"$f":"SUM(J31-I31)","v":"00:00:00"},null,null,{"$f":"SUM(M31-L31)","v":"00:00:00"},"Uke 35"]
[{"$f":"A31+1","v":"2013-09-02"},"Mandag",null,null,{"$f":"SUM(D32-C32)","v":"00:00:00"},null,null,{"$f":"SUM(G32-F32)","v":"00:00:00"},null,null,{"$f":"SUM(J32-I32)","v":"00:00:00"},null,null,{"$f":"SUM(M32-L32)","v":"00:00:00"},"Uke 36"]
[{"$f":"A32+1","v":"2013-09-03"},"Tirsdag",null,null,{"$f":"SUM(D33-C33)","v":"00:00:00"},null,null,{"$f":"SUM(G33-F33)","v":"00:00:00"},null,null,{"$f":"SUM(J33-I33)","v":"00:00:00"},null,null,{"$f":"SUM(M33-L33)","v":"00:00:00"}]
["2013-09-04","Onsdag",null,null,{"$f":"SUM(D34-C34)","v":"00:00:00"},null,null,{"$f":"SUM(G34-F34)","v":"00:00:00"},null,null,{"$f":"SUM(J34-I34)","v":"00:00:00"},null,null,{"$f":"SUM(M34-L34)","v":"00:00:00"}]
["2013-09-05","Torsdag",null,null,{"$f":"SUM(D35-C35)","v":"00:00:00"},null,null,{"$f":"SUM(G35-F35)","v":"00:00:00"},null,null,{"$f":"SUM(J35-I35)","v":"00:00:00"},null,null,{"$f":"SUM(M35-L35)","v":"00:00:00"}]
["2013-09-06","Fredag",null,null,"00:00:00",null,null,"00:00:00",null,null,"00:00:00",null,null,"00:00:00"]
["2013-09-07","Lørdag",null,null,"00:00:00",null,null,"00:00:00",null,null,"00:00:00",null,null,"00:00:00"]
["2013-09-08","Søndag",null,null,"00:00:00",null,null,"00:00:00",null,null,"00:00:00",null,null,"00:00:00"]
["2013-09-09","Mandag",null,null,"00:00:00",null,null,"00:00:00",null,null,"00:00:00",null,null,"00:00:00","Uke 37 (Valgdag)"]
["2013-09-10","Tirsdag",null,null,"00:00:00",null,null,"00:00:00",null,null,"00:00:00",null,null,"00:00:00"]
["2013-09-11","Onsdag",null,null,"00:00:00",null,null,"00:00:00",null,null,"00:00:00",null,null,"00:00:00"]
["2013-09-12","Torsdag",null,null,"00:00:00",null,null,"00:00:00",null,null,"00:00:00",null,null,"00:00:00"]
["2013-09-13","Fredag",null,null,"00:00:00",null,null,"00:00:00",null,null,"00:00:00",null,null,"00:00:00"]
["2013-09-14","Lørdag",null,null,"00:00:00",null,null,"00:00:00",null,null,"00:00:00",null,null,"00:00:00"]
["2013-09-15","Søndag",null,null,"00:00:00",null,null,"00:00:00",null,null,"00:00:00",null,null,"00:00:00"]
["2013-09-16","Mandag",null,null,"00:00:00",null,null,"00:00:00",null,null,"00:00:00",null,null,"00:00:00","Uke 38"]
["2013-09-17","Tirsdag",null,null,"00:00:00",null,null,"00:00:00",null,null,"00:00:00",null,null,"00:00:00"]
["2013-09-18","Onsdag",null,null,"00:00:00",null,null,"00:00:00",null,null,"00:00:00",null,null,"00:00:00"]
["2013-09-19","Torsdag",null,null,"00:00:00",null,null,"00:00:00",null,null,{"$f":"SUM(J49-I49)","v":"00:00:00"},null,null,"00:00:00"]
["2013-09-20","Fredag",null,null,"00:00:00",null,null,"00:00:00",null,null,"00:00:00",null,null,"00:00:00"]
["2013-09-21","Lørdag",null,null,"00:00:00",null,null,"00:00:00",null,null,"00:00:00",null,null,"00:00:00"]
["2013-09-22","Søndag",null,null,"00:00:00",null,null,"00:00:00",null,null,"00:00:00",null,null,"00:00:00"]
["2013-09-23","Mandag",null,null,"00:00:00",null,null,"00:00:00",null,null,"00:00:00",null,null,"00:00:00","Uke 39"]
["2013-09-24","Tirsdag",null,null,"00:00:00",null,null,"00:00:00",null,null,"00:00:00",null,null,"00:00:00"]
["2013-09-25","Onsdag",null,null,"00:00:00",null,null,"00:00:00",null,null,"00:00:00",null,null,"00:00:00"]
["2013-09-26","Torsdag",null,null,"00:00:00",null,null,"00:00:00",null,null,"00:00:00",null,null,"00:00:00"]
["2013-09-27","Fredag",null,null,"00:00:00",null,null,"00:00:00",null,null,"00:00:00",null,null,"00:00:00"]
["2013-09-28","Lørdag",null,null,"00:00:00",null,null,"00:00:00",null,null,"00:00:00",null,null,"00:00:00"]
["2013-09-29","Søndag",null,null,"00:00:00",null,null,"00:00:00",null,null,"00:00:00",null,null,"00:00:00"]
["2013-09-30","Mandag",null,null,"00:00:00",null,null,"00:00:00",null,null,"00:00:00",null,null,"00:00:00","Uke 40"]
[]
[]
["Signatur (arbeidstaker)",{"$nulls":7},"Godkjent (overordnet)"]
[]
[]
[]
[]
[]
["Dato","Signatur",{"$nulls":6},"Dato","Signatur"]

{"sheet":"Oktober","index":10,"n_rows":70,"n_cols":15,"rows_kept":70,"merged":[[0,1,0,11],[0,12,0,13],[1,1,1,11],[1,12,1,13],[3,1,3,11],[3,12,3,13],[4,1,4,11],[4,12,4,13],[5,4,5,5],[5,6,5,11],[5,12,5,13],[7,12,7,13],[8,1,8,2],[8,4,8,5],[8,12,8,13],[9,1,9,5],[9,12,9,13],[10,1,10,5],[10,12,10,13],[11,1,11,5],[11,12,11,13],[12,1,12,5],[12,12,12,13],[13,1,13,5],[13,12,13,13],[14,1,14,5],[14,10,14,11],[14,12,14,13],[15,1,15,5],[15,12,15,13],[16,1,16,5],[16,12,16,13],[17,1,17,4],[17,12,17,13],[18,1,18,5],[18,12,18,13],[20,0,20,3],[21,0,25,14],[27,2,27,4],[27,5,27,7],[27,8,27,10],[27,11,27,13],[63,0,63,5],[63,8,63,13],[68,8,68,9],[69,1,69,6],[69,9,69,14]]}
[null,"Overføres til neste måned - arbeidstid + / - (etter evt utbetaling):",{"$nulls":10},{"$f":"SUM((M13+M15)-M16-M2)","v":-65.5}]
[null,"Sum timer (EA) som utbetales denne måned (trekkes fra timer til gode):",{"$nulls":10},0]
[]
[null,{"$f":"Januar!$B$4","v":"Sum overtid i år (AML § 10-6) Overføres til neste måned:"},{"$nulls":10},{"$f":"SUM((September!M4)+M19)","v":0}]
[null,"Utbetalt OT denne måned:",{"$nulls":10},0]
[null,"OT fra forrige mnd:",null,null,{"$f":"SUM(September!M6)","v":0},null,"OT til gode (etter utbetaling) denne mnd:",{"$nulls":5},{"$f":"SUM(E6+M19-M5)","v":0}]
[]
[null,"Faktiske timer - Årsdifferanse",{"$nulls":4},"Uke","Uke","Uke","Uke","Uke","Uke","Sum for "]
[null,{"$f":"SUM((September!B9)+M13+M19)","v":0},null,null,{"$f":"SUM(B9-(Januar!O19))","v":-78.0625},null,39,{"$f":"G9+1","v":40},{"$f":"H9+1","v":41},{"$f":"I9+1","v":42},{"$f":"J9+1","v":43},{"$f":"K9+1","v":44},"måneden."]
[null,"Normal arbeidstid :",{"$nulls":5},{"$f":"SUM(E31:E36)","v":0},{"$f":"SUM(E37:E43)","v":0},{"$f":"SUM(E44:E50)","v":0},{"$f":"SUM(E51:E57)","v":0},{"$f":"SUM(E58:E61)","v":0},{"$f":"SUM(G10:L10)","v":0}]
[null,"Ekstra arbeidstid (Ikke OT) :",{"$nulls":5},{"$f":"SUM(H31:H36)","v":0},{"$f":"SUM(H37:H43)","v":0},{"$f":"SUM(H44:H50)","v":0},{"$f":"SUM(H51:H57)","v":0},{"$f":"SUM(H58:H61)","v":0},{"$f":"SUM(G11:L11)","v":0}]
[null,{"$f":"Januar!$B$12","v":"Fravær i arbeidstiden:"},{"$nulls":5},{"$f":"SUM(K31:K36)","v":0},{"$f":"SUM(K37:K43)","v":0},{"$f":"SUM(K44:K50)","v":0},{"$f":"SUM(K51:K57)","v":0},{"$f":"SUM(K58:K61)","v":0},{"$f":"SUM(G12:L12)","v":0}]
[null,"Sum",{"$nulls":5},{"$f":"SUM(H10+H11-H12)","v":0},{"$f":"SUM(I10+I11-I12)","v":0},0,0,{"$f":"SUM(L10+L11-L12)","v":0},{"$f":"SUM(G13:L13)","v":0}]
[null,"+ / - arbeidstid pr. uke :",{"$nulls":5},{"$f":"SUM(H13-H16)","v":-1.25},-1.5625,-1.5625,-1.5625,-1.25,{"$f":"SUM(G14:L14)","v":-7.1875}]
[null,"Overført fra forrige måned:",{"$nulls":10},{"$f":"September!$M$1","v":-58.3125}]
[null,"Normal arbeidstid pr uke",{"$nulls":5},{"$f":"H18","v":1.25},{"$f":"I18","v":1.5625},1.5625,1.5625,1.25,{"$f":"SUM(G16:L16)","v":7.1875}]
[null,{"$f":"Januar!$B$17","v":"Antall dager med normal arbeidstid"},{"$nulls":5},4,5,5,5,4,{"$f":"SUM(G17:L17)","v":23}]
[null,{"$f":"Januar!$B$18","v":"Normal arbeidstid pr dag er timer:"},{"$nulls":3},{"$f":"Januar!$F$18","v":"07:30:00"},null,{"$f":"$F$18*H17","v":1.25},1.5625,1.5625,1.5625,1.25]
[null,{"$f":"September!$B$19","v":"Overtid:"},{"$nulls":5},{"$f":"SUM(N31:N36)","v":0},{"$f":"SUM(N37:N43)","v":0},{"$f":"SUM(N44:N50)","v":0},{"$f":"SUM(N51:N57)","v":0},{"$f":"SUM(N58:N61)","v":0},{"$f":"SUM(G19:L19)","v":0}]
[]
["MERKNADER TIL PERIODEN:  "]
[]
[]
[]
[]
[]
[]
[null,null,"Normal Arbeidstid",null,null,"Ekstra arbeidstid",null,null,"Fravær i arbeidstiden",null,null,{"$f":"September!$L$28","v":"Overtid "},null,null,"Merknad"]
["Dato","Dag","Inn","Ut","Sum","Inn","Ut","Sum","Ut","Inn","Sum","Inn","Ut","Sum"]
[]
[{"$f":"September!$A$60+1","v":"2013-10-01"},"Tirsdag",null,null,{"$f":"SUM(D31-C31)","v":"00:00:00"},null,null,{"$f":"SUM(G31-F31)","v":"00:00:00"},null,null,{"$f":"SUM(J31-I31)","v":"00:00:00"},null,null,{"$f":"SUM(M31-L31)","v":"00:00:00"},"Uke 40"]
[{"$f":"A31+1","v":"2013-10-02"},"Onsdag",null,null,"00:00:00",null,null,"00:00:00",null,null,"00:00:00",null,null,"00:00:00"]
[{"$f":"A32+1","v":"2013-10-03"},"Torsdag",null,null,"00:00:00",null,null,"00:00:00",null,null,"00:00:00",null,null,"00:00:00"]
["2013-10-04","Fredag",null,null,"00:00:00",null,null,"00:00:00",null,null,"00:00:00",null,null,"00:00:00"]
["2013-10-05","Lørdag",null,null,"00:00:00",null,null,"00:00:00",null,null,"00:00:00",null,null,"00:00:00"]
["2013-10-06","Søndag",null,null,"00:00:00",null,null,"00:00:00",null,null,"00:00:00",null,null,"00:00:00"]
["2013-10-07","Mandag",null,null,"00:00:00",null,null,"00:00:00",null,null,"00:00:00",null,null,"00:00:00","Uke 41"]
["2013-10-08","Tirsdag",null,null,"00:00:00",null,null,"00:00:00",null,null,"00:00:00",null,null,"00:00:00"]
["2013-10-09","Onsdag",null,null,{"$f":"SUM(D39-C39)","v":"00:00:00"},null,null,{"$f":"SUM(G39-F39)","v":"00:00:00"},null,null,{"$f":"SUM(J39-I39)","v":"00:00:00"},null,null,{"$f":"SUM(M39-L39)","v":"00:00:00"}]
["2013-10-10","Torsdag",null,null,"00:00:00",null,null,"00:00:00",null,null,"00:00:00",null,null,"00:00:00"]
["2013-10-11","Fredag",null,null,"00:00:00",null,null,"00:00:00",null,null,"00:00:00",null,null,"00:00:00"]
["2013-10-12","Lørdag",null,null,"00:00:00",null,null,"00:00:00",null,null,"00:00:00",null,null,"00:00:00"]
["2013-10-13","Søndag",null,null,"00:00:00",null,null,"00:00:00",null,null,"00:00:00",null,null,"00:00:00"]
["2013-10-14","Mandag",null,null,"00:00:00",null,null,"00:00:00",null,null,"00:00:00",null,null,"00:00:00","Uke 42"]
["2013-10-15","Tirsdag",null,null,"00:00:00",null,null,"00:00:00",null,null,"00:00:00",null,null,"00:00:00"]
["2013-10-16","Onsdag",null,null,"00:00:00",null,null,"00:00:00",null,null,"00:00:00",null,null,"00:00:00"]
["2013-10-17","Torsdag",null,null,"00:00:00",null,null,"00:00:00",null,null,"00:00:00",null,null,"00:00:00"]
["2013-10-18","Fredag",null,null,"00:00:00",null,null,"00:00:00",null,null,"00:00:00",null,null,"00:00:00"]
["2013-10-19","Lørdag",null,null,"00:00:00",null,null,"00:00:00",null,null,"00:00:00",null,null,"00:00:00"]
["2013-10-20","Søndag",null,null,"00:00:00",null,null,"00:00:00",null,null,"00:00:00",null,null,"00:00:00"]
["2013-10-21","Mandag",null,null,"00:00:00",null,null,"00:00:00",null,null,"00:00:00",null,null,"00:00:00","Uke 43"]
["2013-10-22","Tirsdag",null,null,"00:00:00",null,null,"00:00:00",null,null,"00:00:00",null,null,"00:00:00"]
["2013-10-23","Onsdag",null,null,"00:00:00",null,null,"00:00:00",null,null,"00:00:00",null,null,"00:00:00"]
["2013-10-24","Torsdag",null,null,"00:00:00",null,null,"00:00:00",null,null,{"$f":"SUM(J54-I54)","v":"00:00:00"},null,null,"00:00:00"]
["2013-10-25","Fredag",null,null,"00:00:00",null,null,"00:00:00",null,null,"00:00:00",null,null,"00:00:00"]
["2013-10-26","Lørdag",null,null,"00:00:00",null,null,"00:00:00",null,null,"00:00:00",null,null,"00:00:00"]
["2013-10-27","Søndag",null,null,"00:00:00",null,null,"00:00:00",null,null,"00:00:00",null,null,"00:00:00"]
["2013-10-28","Mandag",null,null,"00:00:00",null,null,"00:00:00",null,null,"00:00:00",null,null,"00:00:00","Uke 44"]
["2013-10-29","Tirsdag",null,null,"00:00:00",null,null,"00:00:00",null,null,"00:00:00",null,null,"00:00:00"]
["2013-10-30","Onsdag",null,null,"00:00:00",null,null,"00:00:00",null,null,"00:00:00",null,null,"00:00:00"]
["2013-10-31","Torsdag",null,null,{"$f":"SUM(D61-C61)","v":"00:00:00"},null,null,{"$f":"SUM(G61-F61)","v":"00:00:00"},null,null,{"$f":"SUM(J61-I61)","v":"00:00:00"},null,null,{"$f":"SUM(M61-L61)","v":"00:00:00"}]
[]
[]
["Signatur (arbeidstaker)",{"$nulls":7},"Godkjent (overordnet)"]
[]
[]
[]
[]
[]
["Dato","Signatur",{"$nulls":6},"Dato","Signatur"]

{"sheet":"November","index":11,"n_rows":69,"n_cols":15,"rows_kept":69,"merged":[[0,1,0,11],[0,12,0,13],[1,1,1,11],[1,12,1,13],[3,1,3,11],[3,12,3,13],[4,1,4,11],[4,12,4,13],[5,4,5,5],[5,6,5,11],[5,12,5,13],[7,12,7,13],[8,1,8,2],[8,4,8,5],[8,12,8,13],[9,1,9,5],[9,12,9,13],[10,1,10,5],[10,12,10,13],[11,1,11,5],[11,12,11,13],[12,1,12,5],[12,12,12,13],[13,1,13,5],[13,12,13,13],[14,1,14,5],[14,10,14,11],[14,12,14,13],[15,1,15,5],[15,12,15,13],[16,1,16,5],[16,12,16,13],[17,1,17,4],[17,12,17,13],[18,1,18,5],[18,12,18,13],[20,0,20,3],[21,0,25,14],[27,2,27,4],[27,5,27,7],[27,8,27,10],[27,11,27,13],[62,0,62,5],[62,8,62,13],[67,8,67,9],[68,1,68,6],[68,9,68,14]]}
[null,"Overføres til neste måned - arbeidstid + / - (etter evt utbetaling):",{"$nulls":10},{"$f":"SUM((M13+M15)-M16-M2)","v":-72.0625}]
[null,"Sum timer (EA) som utbetales denne måned (trekkes fra timer til gode):",{"$nulls":10},0]
[]
[null,{"$f":"Januar!$B$4","v":"Sum overtid i år (AML § 10-6) Overføres til neste måned:"},{"$nulls":10},{"$f":"SUM((Oktober!M4)+M19)","v":0}]
[null,"Utbetalt OT denne måned:",{"$nulls":10},0]
[null,"OT fra forrige mnd:",null,null,{"$f":"SUM(Oktober!M6)","v":0},null,"OT til gode (etter utbetaling) denne mnd:",{"$nulls":5},{"$f":"SUM(E6+M19-M5)","v":0}]
[]
[null,"Faktiske timer - Årsdifferanse",{"$nulls":4},"Uke","Uke","Uke","Uke","Uke","Uke","Sum for "]
[null,{"$f":"SUM((Oktober!B9)+M13+M19)","v":0},null,null,{"$f":"SUM(B9-(Januar!O19))","v":-78.0625},null,44,{"$f":"G9+1","v":45},{"$f":"H9+1","v":46},{"$f":"I9+1","v":47},{"$f":"J9+1","v":48},{"$f":"K9+1","v":49},"måneden."]
[null,"Normal arbeidstid :",{"$nulls":4},{"$f":"SUM(E31:E33)","v":0},{"$f":"SUM(E34:E40)","v":0},{"$f":"SUM(E41:E47)","v":0},{"$f":"SUM(E48:E54)","v":0},{"$f":"SUM(E55:E60)","v":0},null,{"$f":"SUM(G10:L10)","v":0}]
[null,"Ekstra arbeidstid (Ikke OT) :",{"$nulls":4},{"$f":"SUM(H31:H33)","v":0},{"$f":"SUM(H34:H40)","v":0},{"$f":"SUM(H41:H47)","v":0},{"$f":"SUM(H48:H54)","v":0},{"$f":"SUM(H55:H60)","v":0},null,{"$f":"SUM(G11:L11)","v":0}]
[null,{"$f":"Januar!$B$12","v":"Fravær i arbeidstiden:"},{"$nulls":4},{"$f":"SUM(K31:K33)","v":0},{"$f":"SUM(K34:K40)","v":0},{"$f":"SUM(K41:K47)","v":0},{"$f":"SUM(K48:K54)","v":0},{"$f":"SUM(K55:K60)","v":0},null,{"$f":"SUM(G12:L12)","v":0}]
[null,"Sum",{"$nulls":4},{"$f":"SUM(G10+G11-G12)","v":0},{"$f":"SUM(H10+H11-H12)","v":0},{"$f":"SUM(I10+I11-I12)","v":0},{"$f":"SUM(J10+J11-J12)","v":0},{"$f":"SUM(K10+K11-K12)","v":0},null,{"$f":"SUM(G13:L13)","v":0},{"$f":"SUM(N10+N11-N12-N16)","v":0}]
[null,"+ / - arbeidstid pr. uke :",{"$nulls":4},{"$f":"SUM(G13-G16)","v":-0.3125},{"$f":"SUM(H13-H16)","v":-1.5625},{"$f":"SUM(I13-I16)","v":-1.5625},{"$f":"SUM(J13-J16)","v":-1.5625},{"$f":"SUM(K13-K16)","v":-1.5625},null,{"$f":"SUM(G14:L14)","v":-6.5625}]
[null,"Overført fra forrige måned:",{"$nulls":10},{"$f":"Oktober!$M$1","v":-65.5}]
[null,"Normal arbeidstid pr uke",{"$nulls":4},{"$f":"G18","v":0.3125},{"$f":"H18","v":1.5625},1.5625,1.5625,1.5625,null,{"$f":"SUM(G16:L16)","v":6.5625}]
[null,{"$f":"Januar!$B$17","v":"Antall dager med normal arbeidstid"},{"$nulls":4},1,5,5,5,5,null,{"$f":"SUM(G17:L17)","v":21}]
[null,{"$f":"Januar!$B$18","v":"Normal arbeidstid pr dag er timer:"},{"$nulls":3},{"$f":"Januar!$F$18","v":"07:30:00"},{"$f":"$F$18*G17","v":0.3125},1.5625,1.5625,1.5625,1.5625]
[null,{"$f":"Oktober!$B$19","v":"Overtid:"},{"$nulls":4},{"$f":"SUM(N31:N33)","v":0},{"$f":"SUM(N34:N40)","v":0},{"$f":"SUM(N41:N47)","v":0},{"$f":"SUM(N48:N54)","v":0},{"$f":"SUM(N55:N60)","v":0},null,{"$f":"SUM(G19:L19)","v":0}]
[]
["MERKNADER TIL PERIODEN:  "]
[]
[]
[]
[]
[]
[]
[null,null,"Normal Arbeidstid",null,null,"Ekstra arbeidstid",null,null,"Fravær i arbeidstiden",null,null,{"$f":"Oktober!$L$28","v":"Overtid "},null,null,"Merknad"]
["Dato","Dag","Inn","Ut","Sum","Inn","Ut","Sum","Ut","Inn","Sum","Inn","Ut","Sum"]
[]
[{"$f":"Oktober!$A$61+1","v":"2013-11-01"},"Fredag",null,null,{"$f":"SUM(D31-C31)","v":"00:00:00"},null,null,{"$f":"SUM(G31-F31)","v":"00:00:00"},null,null,{"$f":"SUM(J31-I31)","v":"00:00:00"},null,null,{"$f":"SUM(M31-L31)","v":"00:00:00"},"Uke 44"]
[{"$f":"A31+1","v":"2013-11-02"},"Lørdag",null,null,"00:00:00",null,null,"00:00:00",null,null,"00:00:00",null,null,"00:00:00"]
[{"$f":"A32+1","v":"2013-11-03"},"Søndag",null,null,"00:00:00",null,null,"00:00:00",null,null,"00:00:00",null,null,"00:00:00"]
["2013-11-04","Mandag",null,null,"00:00:00",null,null,"00:00:00",null,null,"00:00:00",null,null,"00:00:00","Uke 45"]
["2013-11-05","Tirsdag",null,null,"00:00:00",null,null,"00:00:00",null,null,"00:00:00",null,null,"00:00:00"]
["2013-11-06","Onsdag",null,null,"00:00:00",null,null,"00:00:00",null,null,"00:00:00",null,null,"00:00:00"]
["2013-11-07","Torsdag",null,null,{"$f":"SUM(D37-C37)","v":"00:00:00"},null,null,{"$f":"SUM(G37-F37)","v":"00:00:00"},null,null,{"$f":"SUM(J37-I37)","v":"00:00:00"},null,null,{"$f":"SUM(M37-L37)","v":"00:00:00"}]
["2013-11-08","Fredag",null,null,"00:00:00",null,null,"00:00:00",null,null,"00:00:00",null,null,"00:00:00"]
["2013-11-09","Lørdag",null,null,"00:00:00",null,null,"00:00:00",null,null,"00:00:00",null,null,"00:00:00"]
["2013-11-10","Søndag",null,null,"00:00:00",null,null,"00:00:00",null,null,"00:00:00",null,null,"00:00:00"]
["2013-11-11","Mandag",null,null,"00:00:00",null,null,"00:00:00",null,null,"00:00:00",null,null,"00:00:00","Uke 46"]
["2013-11-12","Tirsdag",null,null,"00:00:00",null,null,"00:00:00",null,null,"00:00:00",null,null,"00:00:00"]
["2013-11-13","Onsdag",null,null,"00:00:00",null,null,"00:00:00",null,null,"00:00:00",null,null,"00:00:00"]
["2013-11-14","Torsdag",null,null,"00:00:00",null,null,"00:00:00",null,null,"00:00:00",null,null,"00:00:00"]
["2013-11-15","Fredag",null,null,"00:00:00",null,null,"00:00:00",null,null,"00:00:00",null,null,"00:00:00"]
["2013-11-16","Lørdag",null,null,"00:00:00",null,null,"00:00:00",null,null,"00:00:00",null,null,"00:00:00"]
["2013-11-17","Søndag",null,null,"00:00:00",null,null,"00:00:00",null,null,"00:00:00",null,null,"00:00:00"]
["2013-11-18","Mandag",null,null,"00:00:00",null,null,"00:00:00",null,null,"00:00:00",null,null,"00:00:00","Uke 47"]
["2013-11-19","Tirsdag",null,null,"00:00:00",null,null,"00:00:00",null,null,"00:00:00",null,null,"00:00:00"]
["2013-11-20","Onsdag",null,null,"00:00:00",null,null,"00:00:00",null,null,"00:00:00",null,null,"00:00:00"]
["2013-11-21","Torsdag",null,null,"00:00:00",null,null,"00:00:00",null,null,{"$f":"SUM(J51-I51)","v":"00:00:00"},null,null,"00:00:00"]
["2013-11-22","Fredag",null,null,"00:00:00",null,null,"00:00:00",null,null,"00:00:00",null,null,"00:00:00"]
["2013-11-23","Lørdag",null,null,"00:00:00",null,null,"00:00:00",null,null,"00:00:00",null,null,"00:00:00"]
["2013-11-24","Søndag",null,null,"00:00:00",null,null,"00:00:00",null,null,"00:00:00",null,null,"00:00:00"]
["2013-11-25","Mandag",null,null,"00:00:00",null,null,"00:00:00",null,null,"00:00:00",null,null,"00:00:00","Uke 48"]
["2013-11-26","Tirsdag",null,null,"00:00:00",null,null,"00:00:00",null,null,"00:00:00",null,null,"00:00:00"]
["2013-11-27","Onsdag",null,null,"00:00:00",null,null,"00:00:00",null,null,"00:00:00",null,null,"00:00:00"]
["2013-11-28","Torsdag",null,null,"00:00:00",null,null,"00:00:00",null,null,"00:00:00",null,null,"00:00:00"]
["2013-11-29","Fredag",null,null,"00:00:00",null,null,"00:00:00",null,null,"00:00:00",null,null,"00:00:00"]
["2013-11-30","Lørdag",null,null,"00:00:00",null,null,"00:00:00",null,null,"00:00:00",null,null,"00:00:00"]
[]
[]
["Signatur (arbeidstaker)",{"$nulls":7},"Godkjent (overordnet)"]
[]
[]
[]
[]
[]
["Dato","Signatur",{"$nulls":6},"Dato","Signatur"]

{"sheet":"Desember","index":12,"n_rows":70,"n_cols":15,"rows_kept":70,"merged":[[0,1,0,11],[0,12,0,13],[1,1,1,11],[1,12,1,13],[3,1,3,11],[3,12,3,13],[4,1,4,11],[4,12,4,13],[5,4,5,5],[5,6,5,11],[5,12,5,13],[7,12,7,13],[8,1,8,2],[8,4,8,5],[8,12,8,13],[9,1,9,5],[9,12,9,13],[10,1,10,5],[10,12,10,13],[11,1,11,5],[11,12,11,13],[12,1,12,5],[12,12,12,13],[13,1,13,5],[13,12,13,13],[14,1,14,5],[14,10,14,11],[14,12,14,13],[15,1,15,5],[15,12,15,13],[16,1,16,5],[16,12,16,13],[17,1,17,4],[17,12,17,13],[18,1,18,5],[18,12,18,13],[20,0,20,3],[21,0,25,14],[27,2,27,4],[27,5,27,7],[27,8,27,10],[27,11,27,13],[42,22,42,23],[43,23,43,24],[44,23,44,24],[63,0,63,5],[63,8,63,13],[68,8,68,9],[69,1,69,6],[69,9,69,14]]}
[null,"Overføres til neste måned - arbeidstid + / - (etter evt utbetaling):",{"$nulls":10},{"$f":"SUM((M13+M15)-M16-M2)","v":-78.0625}]
[null,"Sum timer (EA) som utbetales denne måned (trekkes fra timer til gode):",{"$nulls":10},0]
[]
[null,{"$f":"Januar!$B$4","v":"Sum overtid i år (AML § 10-6) Overføres til neste måned:"},{"$nulls":10},{"$f":"SUM((November!M4)+M19)","v":0}]
[null,"Utbetalt OT denne måned:",{"$nulls":10},0]
[null,"OT fra forrige mnd:",null,null,{"$f":"SUM(November!M6)","v":0},null,"OT til gode (etter utbetaling) denne mnd:",{"$nulls":5},{"$f":"SUM(E6+M19-M5)","v":0}]
[]
[null,"Faktiske timer - Årsdifferanse",{"$nulls":4},"Uke","Uke","Uke","Uke","Uke","Uke","Sum for "]
[null,{"$f":"SUM((November!B9)+M13+M19)","v":0},null,null,{"$f":"SUM(B9-(Januar!O19))","v":-78.0625},null,48,{"$f":"G9+1","v":49},{"$f":"H9+1","v":50},{"$f":"I9+1","v":51},{"$f":"J9+1","v":52},1,"måneden."]
[null,"Normal arbeidstid :",{"$nulls":4},{"$f":"SUM(E31)","v":0},{"$f":"SUM(E32:E38)","v":0},{"$f":"SUM(E39:E45)","v":0},{"$f":"SUM(E46:E52)","v":0},{"$f":"SUM(E53:E59)","v":0},{"$f":"SUM(E60:E61)","v":0},{"$f":"SUM(G10:L10)","v":0}]
[null,"Ekstra arbeidstid (Ikke OT) :",{"$nulls":4},{"$f":"SUM(H31)","v":0},{"$f":"SUM(H32:H38)","v":0},{"$f":"SUM(H39:H45)","v":0},{"$f":"SUM(H46:H52)","v":0},{"$f":"SUM(H53:H59)","v":0},{"$f":"SUM(H60:H61)","v":0},{"$f":"SUM(G11:L11)","v":0}]
[null,{"$f":"Januar!$B$12","v":"Fravær i arbeidstiden:"},{"$nulls":4},{"$f":"SUM(K31)","v":0},{"$f":"SUM(K32:K38)","v":0},{"$f":"SUM(K39:K45)","v":0},{"$f":"SUM(K46:K52)","v":0},{"$f":"SUM(K53:K59)","v":0},{"$f":"SUM(K60:K61)","v":0},{"$f":"SUM(G12:L12)","v":0}]
[null,"Sum",{"$nulls":4},{"$f":"SUM(G10+G11-G12)","v":0},0,0,0,0,0,{"$f":"SUM(G13:L13)","v":0},{"$f":"SUM(N10+N11-N12-N16)","v":0}]
[null,"+ / - arbeidstid pr. uke :",{"$nulls":4},{"$f":"SUM(G13-G16)","v":0},-1.5625,-1.5625,-1.5625,-0.8125,-0.5,{"$f":"SUM(G14:L14)","v":-6}]
[null,"Overført fra forrige måned:",{"$nulls":10},{"$f":"November!$M$1","v":-72.0625}]
[null,"Normal arbeidstid pr uke",{"$nulls":4},{"$f":"G18","v":0},{"$f":"H18","v":1.5625},1.5625,1.5625,0.8125,0.5,{"$f":"SUM(G16:L16)","v":6}]
[null,{"$f":"Januar!$B$17","v":"Antall dager med normal arbeidstid"},{"$nulls":4},0,5,5,5,2.6,1.6,{"$f":"SUM(G17:L17)","v":19.200000000000003}]
[null,{"$f":"Januar!$B$18","v":"Normal arbeidstid pr dag er timer:"},{"$nulls":3},{"$f":"Januar!$F$18","v":"07:30:00"},{"$f":"$F$18*G17","v":0},1.5625,1.5625,1.5625,0.8125,0.5]
[null,{"$f":"November!$B$19","v":"Overtid:"},{"$nulls":4},{"$f":"SUM(N31)","v":0},{"$f":"SUM(N32:N38)","v":0},{"$f":"SUM(N39:N45)","v":0},{"$f":"SUM(N46:N52)","v":0},{"$f":"SUM(N53:N59)","v":0},{"$f":"SUM(N60:N61)","v":0},{"$f":"SUM(G19:L19)","v":0}]
[]
["MERKNADER TIL PERIODEN:  "]
[]
[]
[]
[]
[]
[]
[null,null,"Normal Arbeidstid",null,null,"Ekstra arbeidstid",null,null,"Fravær i arbeidstiden",null,null,{"$f":"Oktober!$L$28","v":"Overtid "},null,null,"Merknad"]
["Dato","Dag","Inn","Ut","Sum","Inn","Ut","Sum","Ut","Inn","Sum","Inn","Ut","Sum"]
[]
[{"$f":"November!$A$60+1","v":"2013-12-01"},"Søndag",null,null,{"$f":"SUM(D31-C31)","v":"00:00:00"},null,null,{"$f":"SUM(G31-F31)","v":"00:00:00"},null,null,{"$f":"SUM(J31-I31)","v":"00:00:00"},null,null,{"$f":"SUM(M31-L31)","v":"00:00:00"},"Uke 48"]
[{"$f":"A31+1","v":"2013-12-02"},"Mandag",null,null,{"$f":"SUM(D32-C32)","v":"00:00:00"},null,null,{"$f":"SUM(G32-F32)","v":"00:00:00"},null,null,{"$f":"SUM(J32-I32)","v":"00:00:00"},null,null,{"$f":"SUM(M32-L32)","v":"00:00:00"},"Uke 49"]
[{"$f":"A32+1","v":"2013-12-03"},"Tirsdag",null,null,{"$f":"SUM(D33-C33)","v":"00:00:00"},null,null,{"$f":"SUM(G33-F33)","v":"00:00:00"},null,null,{"$f":"SUM(J33-I33)","v":"00:00:00"},null,null,{"$f":"SUM(M33-L33)","v":"00:00:00"}]
["2013-12-04","Onsdag",null,null,{"$f":"SUM(D34-C34)","v":"00:00:00"},null,null,{"$f":"SUM(G34-F34)","v":"00:00:00"},null,null,{"$f":"SUM(J34-I34)","v":"00:00:00"},null,null,{"$f":"SUM(M34-L34)","v":"00:00:00"}]
["2013-12-05","Torsdag",null,null,"00:00:00",null,null,"00:00:00",null,null,"00:00:00",null,null,"00:00:00"]
["2013-12-06","Fredag",null,null,"00:00:00",null,null,"00:00:00",null,null,"00:00:00",null,null,"00:00:00"]
["2013-12-07","Lørdag",null,null,"00:00:00",null,null,"00:00:00",null,null,"00:00:00",null,null,"00:00:00"]
["2013-12-08","Søndag",null,null,"00:00:00",null,null,"00:00:00",null,null,"00:00:00",null,null,"00:00:00"]
["2013-12-09","Mandag",null,null,"00:00:00",null,null,"00:00:00",null,null,"00:00:00",null,null,"00:00:00","Uke 50"]
["2013-12-10","Tirsdag",null,null,{"$f":"SUM(D40-C40)","v":"00:00:00"},null,null,{"$f":"SUM(G40-F40)","v":"00:00:00"},null,null,{"$f":"SUM(J40-I40)","v":"00:00:00"},null,null,{"$f":"SUM(M40-L40)","v":"00:00:00"}]
["2013-12-11","Onsdag",null,null,{"$f":"SUM(D41-C41)","v":"00:00:00"},null,null,{"$f":"SUM(G41-F41)","v":"00:00:00"},null,null,{"$f":"SUM(J41-I41)","v":"00:00:00"},null,null,{"$f":"SUM(M41-L41)","v":"00:00:00"}]
["2013-12-12","Torsdag",null,null,"00:00:00",null,null,"00:00:00",null,null,"00:00:00",null,null,"00:00:00"]
["2013-12-13","Fredag",null,null,"00:00:00",null,null,"00:00:00",null,null,"00:00:00",null,null,"00:00:00"]
["2013-12-14","Lørdag",null,null,"00:00:00",null,null,"00:00:00",null,null,"00:00:00",null,null,"00:00:00"]
["2013-12-15","Søndag",null,null,"00:00:00",null,null,"00:00:00",null,null,"00:00:00",null,null,"00:00:00"]
["2013-12-16","Mandag",null,null,"00:00:00",null,null,"00:00:00",null,null,"00:00:00",null,null,"00:00:00","Uke 51"]
["2013-12-17","Tirsdag",null,null,{"$f":"SUM(D47-C47)","v":"00:00:00"},null,null,{"$f":"SUM(G47-F47)","v":"00:00:00"},null,null,{"$f":"SUM(J47-I47)","v":"00:00:00"},null,null,{"$f":"SUM(M47-L47)","v":"00:00:00"}]
["2013-12-18","Onsdag",null,null,{"$f":"SUM(D48-C48)","v":"00:00:00"},null,null,{"$f":"SUM(G48-F48)","v":"00:00:00"},null,null,{"$f":"SUM(J48-I48)","v":"00:00:00"},null,null,{"$f":"SUM(M48-L48)","v":"00:00:00"}]
["2013-12-19","Torsdag",null,null,"00:00:00",null,null,"00:00:00",null,null,{"$f":"SUM(J49-I49)","v":"00:00:00"},null,null,"00:00:00"]
["2013-12-20","Fredag",null,null,"00:00:00",null,null,"00:00:00",null,null,"00:00:00",null,null,"00:00:00"]
["2013-12-21","Lørdag",null,null,"00:00:00",null,null,"00:00:00",null,null,"00:00:00",null,null,"00:00:00"]
["2013-12-22","Søndag",null,null,"00:00:00",null,null,"00:00:00",null,null,"00:00:00",null,null,"00:00:00"]
["2013-12-23","Mandag",null,null,"00:00:00",null,null,"00:00:00",null,null,"00:00:00",null,null,"00:00:00","Uke 52"]
["2013-12-24","Tirsdag",null,null,{"$f":"SUM(D54-C54)","v":"00:00:00"},null,null,{"$f":"SUM(G54-F54)","v":"00:00:00"},null,null,"00:00:00",null,null,{"$f":"SUM(M54-L54)","v":"00:00:00"},"Juleaften (4:30t)"]
["2013-12-25","Onsdag",null,null,{"$f":"SUM(D55-C55)","v":"00:00:00"},null,null,{"$f":"SUM(G55-F55)","v":"00:00:00"},null,null,"00:00:00",null,null,{"$f":"SUM(M55-L55)","v":"00:00:00"},"1. Juledag"]
["2013-12-26","Torsdag",null,null,{"$f":"SUM(D56-C56)","v":"00:00:00"},null,null,{"$f":"SUM(G56-F56)","v":"00:00:00"},null,null,"00:00:00",null,null,{"$f":"SUM(M56-L56)","v":"00:00:00"},"2. Juledag"]
["2013-12-27","Fredag",null,null,"00:00:00",null,null,"00:00:00",null,null,"00:00:00",null,null,"00:00:00"]
["2013-12-28","Lørdag",null,null,"00:00:00",null,null,"00:00:00",null,null,"00:00:00",null,null,"00:00:00"]
["2013-12-29","Søndag",null,null,"00:00:00",null,null,"00:00:00",null,null,"00:00:00",null,null,"00:00:00"]
["2013-12-30","Mandag",null,null,"00:00:00",null,null,"00:00:00",null,null,"00:00:00",null,null,"00:00:00","Uke 1"]
["2013-12-31","Tirsdag",null,null,{"$f":"SUM(D61-C61)","v":"00:00:00"},null,null,{"$f":"SUM(G61-F61)","v":"00:00:00"},null,null,"00:00:00",null,null,{"$f":"SUM(M61-L61)","v":"00:00:00"},"Nyttårsaften (4:30t)"]
[]
[]
["Signatur (arbeidstaker)",{"$nulls":7},"Godkjent (overordnet)"]
[]
[]
[]
[]
[]
["Dato","Signatur",{"$nulls":6},"Dato","Signatur"]

{"sheet":"Beregning av OT","index":13,"n_rows":54,"n_cols":15,"rows_kept":54,"merged":[[2,0,2,4],[3,0,3,4],[3,10,3,14],[4,0,4,4],[4,10,4,14],[5,0,5,4],[5,10,5,14],[20,2,20,4],[20,5,20,7],[20,8,20,10],[20,11,20,13]]}
["Beregning av overtid - fordeling mellom 50/100%"]
[]
["Samlet arbeidstid",{"$nulls":7},{"$f":"SUM(E24:E54)","v":0},"L.art"]
["Ekstra arbeidstid (Ikke OT) :",{"$nulls":7},{"$f":"SUM(H24:H54)","v":0},null,"Konto:"]
["Overtid 50% - til kl. 21:00.",{"$nulls":7},{"$f":"SUM(K24:K54)","v":0},null,"Konto:"]
["Overtid 100% - fra kl. 21:00.",{"$nulls":7},{"$f":"SUM(N24:N54)","v":0},null,"Konto:"]
[]
["Eventuell differanse - skal stå i null om alt stemmer:",{"$nulls":7},{"$f":"SUM(I4:I6)-I3","v":0}]
{"$rows_empty":12}
[null,null,"Samlet arbeidstid",null,null,"Ekstra arbeidstid",null,null,"Overtid 50%",null,null,"Overtid 100%",null,null,"Merknad"]
["Dato","Dag","Inn","Ut","Sum","Inn","Ut","Sum","Inn","Ut","Sum","Inn","Ut","Sum"]
[]
[{"$nulls":4},{"$f":"SUM(D24-C24)","v":"00:00:00"},null,null,{"$f":"SUM(G24-F24)","v":"00:00:00"},null,null,{"$f":"SUM(J24-I24)","v":"00:00:00"},null,null,{"$f":"SUM(M24-L24)","v":"00:00:00"}]
[{"$nulls":4},"00:00:00",null,null,"00:00:00",null,null,"00:00:00",null,null,"00:00:00"]
[{"$nulls":4},"00:00:00",null,null,"00:00:00",null,null,"00:00:00",null,null,"00:00:00"]
[{"$nulls":4},"00:00:00",null,null,"00:00:00",null,null,"00:00:00",null,null,"00:00:00"]
[{"$nulls":4},"00:00:00",null,null,"00:00:00",null,null,"00:00:00",null,null,"00:00:00"]
[{"$nulls":4},"00:00:00",null,null,"00:00:00",null,null,"00:00:00",null,null,"00:00:00"]
[{"$nulls":4},"00:00:00",null,null,"00:00:00",null,null,"00:00:00",null,null,"00:00:00"]
[{"$nulls":4},"00:00:00",null,null,"00:00:00",null,null,"00:00:00",null,null,"00:00:00"]
[{"$nulls":4},"00:00:00",null,null,"00:00:00",null,null,"00:00:00",null,null,"00:00:00"]
[{"$nulls":4},"00:00:00",null,null,"00:00:00",null,null,"00:00:00",null,null,"00:00:00"]
[{"$nulls":4},"00:00:00",null,null,"00:00:00",null,null,"00:00:00",null,null,"00:00:00"]
[{"$nulls":4},"00:00:00",null,null,"00:00:00",null,null,"00:00:00",null,null,"00:00:00"]
[{"$nulls":4},"00:00:00",null,null,"00:00:00",null,null,"00:00:00",null,null,"00:00:00"]
[{"$nulls":4},"00:00:00",null,null,"00:00:00",null,null,"00:00:00",null,null,"00:00:00"]
[{"$nulls":4},"00:00:00",null,null,"00:00:00",null,null,"00:00:00",null,null,"00:00:00"]
[{"$nulls":4},"00:00:00",null,null,"00:00:00",null,null,"00:00:00",null,null,"00:00:00"]
[{"$nulls":4},"00:00:00",null,null,"00:00:00",null,null,"00:00:00",null,null,"00:00:00"]
[{"$nulls":4},"00:00:00",null,null,"00:00:00",null,null,"00:00:00",null,null,"00:00:00"]
[{"$nulls":4},"00:00:00",null,null,"00:00:00",null,null,"00:00:00",null,null,"00:00:00"]
[{"$nulls":4},"00:00:00",null,null,"00:00:00",null,null,"00:00:00",null,null,"00:00:00"]
[{"$nulls":4},"00:00:00",null,null,"00:00:00",null,null,"00:00:00",null,null,"00:00:00"]
[{"$nulls":4},"00:00:00",null,null,"00:00:00",null,null,"00:00:00",null,null,"00:00:00"]
[{"$nulls":4},"00:00:00",null,null,"00:00:00",null,null,"00:00:00",null,null,"00:00:00"]
[{"$nulls":4},"00:00:00",null,null,"00:00:00",null,null,"00:00:00",null,null,"00:00:00"]
[{"$nulls":4},"00:00:00",null,null,"00:00:00",null,null,"00:00:00",null,null,"00:00:00"]
[{"$nulls":4},"00:00:00",null,null,"00:00:00",null,null,"00:00:00",null,null,"00:00:00"]
[{"$nulls":4},"00:00:00",null,null,"00:00:00",null,null,"00:00:00",null,null,"00:00:00"]
[{"$nulls":4},"00:00:00",null,null,"00:00:00",null,null,"00:00:00",null,null,"00:00:00"]
[{"$nulls":4},"00:00:00",null,null,"00:00:00",null,null,"00:00:00",null,null,"00:00:00"]
[{"$nulls":4},"00:00:00",null,null,"00:00:00",null,null,"00:00:00",null,null,"00:00:00"]
[{"$nulls":4},"00:00:00",null,null,"00:00:00",null,null,"00:00:00",null,null,"00:00:00"]

{"sheet":"Brukerveiledning","index":14,"n_rows":121,"n_cols":1,"rows_kept":121}
[]
["www.hobbiten.net"]
["Brukerveiledning for tidsregisteringsskjema. "]
[]
["\"Brukerveiledninger er for feiginger\" - \"Når alt annet svikter, les brukerveiledningen.\""]
[]
["Oversikt:"]
["Regneark for registrering av arbeidstid / fleksitid."]
["Ved første gangs bruk."]
["Start ute i året."]
["Snarveistips."]
["Føring av klokkeslett."]
["Normal arbeidstid."]
["Ekstra arbeide som ikke er overtid."]
["Fravær i arbeidstiden. "]
["Avspassering."]
["Overtid."]
["Ferie."]
["Sykdom."]
["Permisjon."]
["Merknadsrubrikkene."]
["Hvordan føre timer som tas ut ved økonomisk kompensasjon."]
["Spesielt for onsdag før påske, jule- og nyttårsaften.         ±"]
["Årsoversikt. "]
["Cellebeskyttelse."]
["Bruk av arket \"Beregning av OT\"."]
["Ansvar for feil, misforståelser, misbruk, feiltasting m.m."]
["Forfatter - nye versoner."]
["Tilbakemelding."]
[]
[]
["Regneark for registrering av arbeidstid / fleksitid."]
["Hvis du lurer på noen felt, kan du la musepekeren hvile på de cellene som har en liten rød trekant øverst i høyre hjørne. Da får du frem en \"Merknad\" med forklaring. De aller fleste feltene er for øvrig låst, slik at du ikke skal kunne endre på skjemaet. "]
[]
["Skjemaet er lagt opp slik at hver uke beregnes med med normal arbeidstid * antall arbeidsdager.\nFor de som har en normal arbeidsdag på 07:30 timer med betalt lunsj,  er alt forhåndsutfylt.  "]
[]
["Ikke 7:30t arbeidsdag?:\nDersom du har annen arbeidstid , f.eks 8:00) må du endre normal arbeidstid per dag i turkis celle  F18.  Denne endrer  automatisk for hver måned når du endrer i januar, men kan overskrives  i alle måneder."]
[]
["Deltidsjobbing:\nJobber du deltid og arbeider fulle dager må du også endre  hvor mange dager du jobber i den enkelte uke."]
[]
[]
["Ved første gangs bruk: (Start ute i året - Se eget punkt for dette.)        ±"]
["1. Filnavn."]
["Du må lagre filen under nytt (ditt ?) navn, noe du blir tvunget til ved at filen du laster ned er en mal. Når du bruker ditt navn og avdeling som filnavn, vil dette komme med i toppteksten på hvert regneark som skrives ut."]
[]
["Etter at du har tatt skjemaet i bruk, bør du slett merknaden som står i tekstboksen i januar måned."]
[]
["2. Pluss eller minus tid – når du tar regnearket i bruk."]
["Ved første gangs bruk må du registrere din status for +/- tid. Dette gjør du i regnearket for januar – uavhengig av når du begynner å bruke regnearket. Timene/minuttene blir automatisk overført gjennom hele regnearket."]
[]
["Plusstid føres i ”turkis celle M15 i regnearket for januar”. Minustid føres i ”stor turkis cell B9 i regnearket for januar”"]
[]
["Har du overtid som skal overføres, fører du dette i celle E6, dvs timer som ikke er hentet ut føres dette her,  men husk da på at ditt totale timetall øker i månedsoversikten, men IKKE i jf. årsoversikten (jf. AML § 10-6) iom at det er timer fra fjoråret."]
[]
["Start ute i året. ±"]
["Skjemaet er lagt opp slik at du står i minus med den arbeidstiden du skal arbeide med pr. måned.\nDette innebærer at dersom du begynner å bruke skjemaet i september, så er du rimelig på minus i og med at skjemaet ikke har registrert noen arbeidstid i perioden januar - august.\n\nStarter du med å bruke skjemaet ute i året, legger du inn 0 i de turkise cellene i rad 17 Antall dager med normal arbeidstid i alle ukene i hver måned før du begynner å bruke skjemaet."]
[]
["Snarveistips.      ±"]
["Legg inn en snarvei til filen i mappen oppstart,da starter regnearket hver gang du starter maskinen. Da er det lettere å huske å skrive inn fremmøtetid. Du kan eventuelt legge inn en snarvei på skrivebordet eller på officeverktøylinjen for å gjøre arket arket lettere tilgjengelig."]
[]
["Føring av klokkeslett.        ±"]
["Klokkeslett skrives slik 8:30 - åtte kolon tre null"]
[]
["Normal arbeidstid.        ±"]
["Regnearket baserer seg på at du taster inn tid når du kommer og tid når du går, som i et manuelt fleksiskjema. Dette gjøres i \"Normal arbeidstid\"."]
[]
["Ekstra arbeide som ikke er overtid.        ±"]
["Enkelte arbeider tidvis utover normal arbeidstid, og tar dette ut i avspassering. Dette er arbeide som ikke er pålagt og som det ikke betales overtid for, og det føres i \"Ekstra arbeidstid\". "]
[]
["Fravær i arbeidstiden.         ±"]
["Alt fravær fra arbeidsplassen, etter at du har kommet på arbeide, føres i \"Fravær i arbeidstiden\". "]
[]
["Avspassering.        ±"]
["Avspasserer du en hel dag, skriver du ikke inn noe arbeidstid den dagen. Du har jo ikke arbeidet noe denne dagen. Du må ikke føre fravær i tillegg på Fravær i arbeidstiden - da blir du trukket dobbelt."]
[]
["Overtid.        ±"]
["Dersom du ikke har fast godtgjort overtid, noe som altså gjelder de fleste arbeidstakere, kan du kan bruke skjemaet til å registrere overtid, men da bare for oversiktens del. Vanlig overtidsskjema må fortsatt fylles ut."]
["Overtidsoversikten er for å ha kontroll med hvor mye overtid du har arbeidet, jf. hvor mye du har lov til å arbeid jf. AML § 10-6.\nVIKTIG:\nDet er ingen omregning når det gjelder tillegg - hvilken OT-sats du skal bruke. Så du må selv holde kontroll på hvilke timer som er 50% og hvilke som er 100%. Noen henter ut tillegget i økonomisk kompesasjon og avspasserer timene. Variasjonene er mange, så her må du selv holde kontroll. Her kan du bruke arket \"Beregning av OT\" til å sortere arbeidstiden i henholdsvis 50 og 100%. "]
[]
["Ferie.        ±"]
["Feriedager føres med full arbeidstid, 0800-15:30. Du bør føre Ferie i merknadsrubrikken for å holde oversikten."]
[]
["Sykdom.        ±"]
["Fravær pga sykdom føres med full arbeidstid, 0800-15:30. Du bør føre Sykdom i merknadsrubrikken."]
[]
["Permisjon.        ±"]
["Har du permisjon med lønn, føres dette her som normal arbeidstid.\nEr det uten lønn, føres det IKKE arbeidstid - med mindre du blir trukket for dette over lønnsslippen. Da er du nødt til å føre det som timer her, ellers vil du bli trukket to ganger."]
[]
["Merknadsrubrikkene. ±"]
["Under \"Merknad\" kan du skrive korte meldinger til den enkelte dag, f.eks ved syk, ferie, kommunestyremøte m.m.. \n\nTekstboksen \"Merknader til perioden\" kan du bruke til å skrive tekst om du skulle ha behov for kommentarer til perioden."]
[]
["Hvordan føre timer som tas ut ved økonomisk kompensasjon. ±"]
["Hvis du henter ut timer som du har til gode, enten ekstra arbeidstid eller overtid, fører du dette i de lysegrønne feltene. Da blir ditt tilgodehavende nedjustert med det antall timer du skriver inn der."]
[]
["Spesielt for onsdag før påske, jule- og nyttårsaften.         ±"]
["Onsdag før påske er det 4:30t arbeidstid, f.eks 0730-12:00.  Dette er registreres med 0,6 av en normal  arbeidsdag på 07:30t.\n\nEr din arbeidsdag på 8:00 og ikke 7:30 må du føre følgende under Antall dager med normal arbeidstid: 2,564 i uke 13 (turkis celle K17) i påske-måneden og i desember. Om du har annen fast arbeidstid, må du nesten selv beregne dette ved å prøve og feile. "]
[]
["Årsoversikt.        ±"]
["I arket årsoversikt finner du månedssummene for den enkelte type arbeidstid. Dette er kun for oversiktens del."]
[]
["Cellebeskyttelse. ±"]
["Skjemaet er beskyttet med passord. Årsaken er at du ikke skal taste feil og slette formler og/eller celler som er viktige. Dette gir imidlertid ingen beskyttelse da internett er fullt av verktøy for å cracke passord. "]
[]
["Bruk av arket \"Beregning av OT\".  ±"]
["Dette arket kan du bruke til å regne ut fordeling av overtidstimer de dagene du har overtid, og skal levere egen timeliste for dette for utbetaling.\n\nEksempel: En dag fortsatte du å arbeide utover vanlig arbeidsdag kl. 15:30, og fortsatte på jobben til kl. 22:30. Nå var du beordret på møte i tiden kl. 19:00-22:30, men for å gjøre det enkelte ble du på jobb etter at normalarbeidsdagen var slutt. Da skal du i utgangspunktet føre tiden fra kl. 15:30-19:00 som ekstra arbeidstid på den arbeidsdagen i det ordinære arbeidstidsregnskapet, men det kan være tilfeller da du ikke ønsker det, men vil regne ut alt sammen her, derfor er det en mulighet til det. \n\nDa regner du slik:\nSamlet arbeidstid 15:30 - 22:30 = 7:00 \nEkstra arbeidstid 15:30 - 19:00 = 3:30\n50% overtid 19:00 - 21:00 = 02:00\n100% overtid 21:00 - 22:30 = 1:30\n\nDersom Eventuell differanse IKKE står i null, har du ført noe arbeidstid dobbelt."]
[]
["Ansvar for feil, misforståelser, misbruk, feiltasting m.m. ±"]
["Skjemaet er laget av meg som privatperson og jeg tar intet ansvar for bruken av dette. Det er et tilbud fra meg som privatperson  og det er fritt å bruke det, men ikke for videresalg."]
[]
["Forfatter - nye versjoner.        ±"]
["Skjemaet er lagd av Leif E Broch - som arbeider som informasjonssjef i Eigersund kommune, men skjemaet er lagd av meg på min fritid og har ikke noe med min jobb å gjøre."]
[]
["Nye versjoner kommer hvert år på www.hobbiten.net Videre blir det annonsert på Twitter fra @lebroch med hashtag #flexitid"]
[]
["Tilbakemelding. ±"]
["Jeg tar gjerne i mot tilbakemeldinger, og da særlig konstruktive forslag om forbedringer, epost:"]
["mailto:post@hobbiten.net?subject=Tilbakemelding - Tidregistreringsskjema"]
[]
["For øvrig, er du ikke fornøyd med skjemaet, kan du jo bare la være å bruke det.... :-)"]
[]
["Til toppen."]